BEGIN:VCALENDAR
VERSION:2.0
PRODID:-//ChamberMaster//Event Calendar 2.0//EN
METHOD:PUBLISH
X-PUBLISHED-TTL:P3D
REFRESH-INTERVAL:P3D
CALSCALE:GREGORIAN
BEGIN:VEVENT
DTSTART:20261004T160000Z
DTEND:20261004T230000Z
X-MICROSOFT-CDO-ALLDAYEVENT:FALSE
SUMMARY:Poway Fall Festival
DESCRIPTION:Don't miss the 2026 Poway Fall Festival\, Sunday\, October 4\, 2025.\n\n\n\n\n\n\nEnjoy hundreds of vendors\, food & drink\, kids' activities\, live music\, a classic car show\, beer & wine garden\, and much more at the Poway Fall Festival.\n\nAlways free to attend\, The Poway Fall Festival will take place between 9 am and 4 pm on Midland Road\, between Poway Rd & Hilleary Pl.\n\n\n\nChamber members receive discounts on booth fees!\n\n\n\nSponsorships are available at a variety of investment levels\; click below to view our Sponsorship Opportunities Packet or contact Mike Leland at mike@poway.com for more information.\n\n\n\nView Our Sponsorship Opportunities Packet
X-ALT-DESC;FMTTYPE=text/html:<div class="fl-module fl-module-heading fl-node-ifus50enwq9x" data-node="ifus50enwq9x" style="box-sizing: border-box\; font-family: Montserrat\, sans-serif\; font-size: 16px\;">\n<div class="fl-module-content fl-node-content" style="box-sizing: border-box\; margin: 20px 20px 0px\;">\n<div class="fl-heading" style="box-sizing: border-box\; font-size: 32px\; letter-spacing: 0px\; margin: 0px !important\; padding: 0px !important\;"><span style="font-size:18px\;"><span style="color:#000000\;">Don&#39\;t miss the&nbsp\;<strong style="box-sizing: border-box\;">2026&nbsp\;Poway Fall Festival</strong>\, Sunday\, October 4\, 2025.</span></span></div>\n</div>\n</div>\n\n<div class="fl-module fl-module-rich-text fl-node-n1rwotf8ad0s" data-node="n1rwotf8ad0s" style="box-sizing: border-box\; font-family: Montserrat\, sans-serif\; font-size: 16px\;">\n<div class="fl-module-content fl-node-content" style="box-sizing: border-box\; margin: 20px\;">\n<div class="fl-rich-text" style="box-sizing: border-box\;">\n<p style="box-sizing: border-box\; margin: 0px 0px 10px\;"><span style="color:#000000\;">Enjoy hundreds of vendors\, food &amp\; drink\, kids&#39\; activities\, live music\, a classic car show\, beer &amp\; wine garden\, and much more at the Poway Fall Festival.</span></p>\n\n<p style="box-sizing: border-box\; margin: 0px 0px 10px\;"><span style="color:#000000\;">Always free to attend\, The Poway Fall Festival will take place between 9&nbsp\;am and 4 pm on Midland Road\, between Poway Rd &amp\; Hilleary Pl.</span><br />\n<br />\n<span style="color:#000000\;"><em style="box-sizing: border-box\;">Chamber members receive discounts on booth fees!</em><br />\n<br />\nSponsorships are available at a variety of investment levels\; click below to view our Sponsorship Opportunities Packet or contact Mike Leland at <a href="mailto:mike@poway.com">mike@poway.com</a> for more information.<br />\n<br />\n<a href="https://www.poway.com/assets/pdf/2026+Poway+Fall+Festival+Sponsor+Deck">View Our Sponsorship Opportunities Packet</a></span></p>\n</div>\n</div>\n</div>\n
LOCATION:Midland Road\, between Hilleary Place and Poway Road.
UID:e.530.24988
SEQUENCE:3
DTSTAMP:20260420T101939Z
URL:https://business.poway.com/events/details/poway-fall-festival-24988
END:VEVENT

END:VCALENDAR
