BEGIN:VCALENDAR
VERSION:2.0
PRODID:-//ChamberMaster//Event Calendar 2.0//EN
METHOD:PUBLISH
X-PUBLISHED-TTL:P3D
REFRESH-INTERVAL:P3D
CALSCALE:GREGORIAN
BEGIN:VEVENT
DTSTART:20210701T000000Z
DTEND:20210701T020000Z
X-MICROSOFT-CDO-ALLDAYEVENT:FALSE
SUMMARY:Pop-up Evening Connections / Award Presentation for Mainstream
DESCRIPTION:Join us for a pop-up Evening Connections at Mainstream Bar & Grill\, at which the Poway Chamber will present Mainstream with their Employer of the Year Award from the 2021 Business Star Awards.
X-ALT-DESC;FMTTYPE=text/html:Join us for a pop-up Evening Connections at <strong>Mainstream Bar &amp\; Grill</strong>\, at which the Poway Chamber will present Mainstream with their <strong>Employer of the Year Award</strong> from the 2021 Business Star Awards.
LOCATION:Mainstream Bar & Grill 13385 Poway Rd
UID:e.530.19445
SEQUENCE:3
DTSTAMP:20260419T234213Z
URL:https://business.poway.com/events/details/pop-up-evening-connections-award-presentation-for-mainstream-19445
END:VEVENT

END:VCALENDAR
