BEGIN:VCALENDAR
VERSION:2.0
PRODID:-//ChamberMaster//Event Calendar 2.0//EN
METHOD:PUBLISH
X-PUBLISHED-TTL:P3D
REFRESH-INTERVAL:P3D
CALSCALE:GREGORIAN
BEGIN:VEVENT
DTSTART:20201029T210000Z
DTEND:20201030T010000Z
X-MICROSOFT-CDO-ALLDAYEVENT:FALSE
SUMMARY:Play Nine & Dine Golf Tournament
DESCRIPTION:Golfer Spots are SOLD OUT! Tickets for the Opportunity Drawing are still available to purchase\, and you need not be in attendance to win! Click "Register Now" to purchase your drawing tickets. \n\n\n\nGet out and have some fun! Enjoy nine holes of golf at the beautiful Oaks North Golf Course. The afternoon will include fun games\, a drawing and a delicious BBQ meal.\n\n\n\nSponsorships are available! Purchase your sponsorship package by clicking Register Now on the right hand side of this page.\n\n	Hole Sponsor ($50): Includes sign at 1 hole and logo on all communications/social media. \n	SOLD OUT--Title Sponsor ($750): Includes 2 golfers\, logo on all media/communications/press and event signage\, title sign at registration.\n	SOLD OUT--Food & Beverage Sponsor ($350)\n	SOLD OUT--Cart Sponsor ($200)\n\n\n\nThank you to our sponsors!\n\nTitle Sponsor: The Farm in Poway\n\nFood & Beverage Sponsor: California Dreaming Pools\n\nCart Sponsor: Halcyon Real Estate\n\nHole Sponsors: Clearent\, Commish Embroidery & Screen Printing\, KPI Dynamics\, Community Chiropractic Center\, SD Laser Fat Loss\, Sotera Anderson: California Lemon Law Attorney\, Farmers Insurance: The Peterson Agency\, Movement Mortgage\, Fred Astaire Dance Studio\, Sungenia Solar Solutions\, EDCO Disposal
X-ALT-DESC;FMTTYPE=text/html:Golfer Spots are SOLD OUT! Tickets for the Opportunity Drawing are still available to purchase\, and you need not be in attendance to win! Click &quot\;Register Now&quot\; to purchase your drawing tickets.&nbsp\;<br />\n<br />\nGet out and have some fun! Enjoy nine holes of golf at the beautiful Oaks North Golf Course. The afternoon will include fun games\, a drawing and a delicious BBQ meal.<br />\n<br />\nSponsorships are available! Purchase your sponsorship package by clicking Register Now on the right hand side of this page.\n<ul>\n	<li><strong>Hole Sponsor</strong>&nbsp\;($50): Includes sign at 1 hole and logo on all communications/social media.&nbsp\;</li>\n	<li><strong>SOLD OUT--Title Sponsor</strong> ($750): Includes 2 golfers\, logo on all media/communications/press and event signage\, title sign at registration.</li>\n	<li><strong>SOLD OUT--Food &amp\; Beverage Sponsor&nbsp\;</strong>($350)</li>\n	<li><strong>SOLD OUT--Cart Sponsor </strong>($200)</li>\n</ul>\n<br />\n<em>Thank you to our sponsors!</em><br />\n<strong>Title Sponsor</strong>: The Farm in Poway<br />\n<strong>Food &amp\; Beverage Sponsor</strong>: California Dreaming Pools<br />\n<strong>Cart Sponsor</strong>: Halcyon Real Estate<br />\n<strong>Hole Sponsors</strong>: Clearent\, Commish Embroidery &amp\; Screen Printing\, KPI Dynamics\, Community Chiropractic Center\, SD Laser Fat Loss\, Sotera Anderson: California Lemon Law Attorney\, Farmers Insurance: The Peterson Agency\, Movement Mortgage\, Fred Astaire Dance Studio\, Sungenia Solar Solutions\, EDCO Disposal
LOCATION:Oaks North Golf Course 12602 Oaks N Dr San Diego\, CA 92128
UID:e.530.16504
SEQUENCE:3
DTSTAMP:20260420T124640Z
URL:https://business.poway.com/events/details/play-nine-dine-golf-tournament-16504
END:VEVENT

END:VCALENDAR
