BEGIN:VCALENDAR
VERSION:2.0
PRODID:-//ChamberMaster//Event Calendar 2.0//EN
METHOD:PUBLISH
X-PUBLISHED-TTL:P3D
REFRESH-INTERVAL:P3D
CALSCALE:GREGORIAN
BEGIN:VEVENT
DTSTART:20191228T010000Z
DTEND:20191228T050000Z
X-MICROSOFT-CDO-ALLDAYEVENT:FALSE
SUMMARY:Paella and Tapas Night
DESCRIPTION:Phenomenal food and incredible company await you at MCW with Chef Elda. A fantastic\, unique\, and unforgettable culinary experience happens at the Mission! Whether you know Barcelona\, Madrid\, Valencia\, Sevilla\, Caceres...or not\, you can not miss Paella Friday. Spread the word and enjoy a pleasant night. Turn your day for the better!!
X-ALT-DESC;FMTTYPE=text/html:Phenomenal food and incredible company await you at MCW with Chef Elda. A fantastic\, unique\, and unforgettable culinary experience happens at the Mission! Whether you know Barcelona\, Madrid\, Valencia\, Sevilla\, Caceres...or not\, you can not miss Paella Friday. Spread the word and enjoy a pleasant night. Turn your day for the better!!
LOCATION:Mission Cellars Winery 14053 Midland Rd. Poway CA 92064
UID:e.530.16320
SEQUENCE:3
DTSTAMP:20260421T043904Z
URL:https://business.poway.com/events/details/paella-and-tapas-night-16320
END:VEVENT

END:VCALENDAR
