BEGIN:VCALENDAR
VERSION:2.0
PRODID:-//ChamberMaster//Event Calendar 2.0//EN
METHOD:PUBLISH
X-PUBLISHED-TTL:P3D
REFRESH-INTERVAL:P3D
CALSCALE:GREGORIAN
BEGIN:VEVENT
DTSTART;VALUE=DATE:20201203
DTEND;VALUE=DATE:20201207
TRANSP:TRANSPARENT
X-MICROSOFT-CDO-ALLDAYEVENT:TRUE
SUMMARY:North County Auctions: Poway Arcade Games Auction
DESCRIPTION:Poway Arcade Games Auction\n\n \n\nwww.northcountyauctions.com\n\n \n\nhttps://northcountyauctions.proxibid.com/asp/createbidder.asp\n\n \n\n\nLots start closing Sunday\, December 6\, 2020  |  6:15 PM Pacific\n\n\n \n\n\n \n\n\n\n\n\n \n\n\n\n\n\n\n\nMadwave Theatre\, Firestorm Air Hockey\, Fast n Furious Super Bikes\, etc. To get upcoming auctions\, text ncauctions to 77222. Email or text with questions (619) 787-4906 or casey@northcountyauctions.com
X-ALT-DESC;FMTTYPE=text/html:<div style="color: rgb(0\, 0\, 0)\; font-size: 10pt\; font-family: verdana\, geneva\;"><b color="#3079a4" style="font-size: 10pt\;"><a data-saferedirecturl="https://www.google.com/url?q=https://northcountyauctions.proxibid.com/asp/Catalog.asp?aid%3D189508&amp\;source=gmail&amp\;ust=1607105140454000&amp\;usg=AFQjCNH4wfLGob7ftRQ_O1S85QOKZm1mCA" href="https://northcountyauctions.proxibid.com/asp/Catalog.asp?aid=189508" style="color: rgb(17\, 85\, 204)\;" target="_blank">Poway Arcade Games Auction</a></b></div>\n\n<div style="color: rgb(0\, 0\, 0)\; font-size: 10pt\; font-family: verdana\, geneva\;">&nbsp\;</div>\n\n<div style="color: rgb(0\, 0\, 0)\; font-family: Verdana\; font-size: 13.3333px\;"><span color="#3079a4"><a data-saferedirecturl="https://www.google.com/url?q=http://www.northcountyauctions.com&amp\;source=gmail&amp\;ust=1607105140454000&amp\;usg=AFQjCNEKaXZTrXBoB6NFTkChncV6xj6MJA" href="http://www.northcountyauctions.com/" style="color: rgb(17\, 85\, 204)\;" target="_blank">www.northcountyauctions.com</a></span></div>\n\n<div style="color: rgb(0\, 0\, 0)\; font-family: Verdana\; font-size: 13.3333px\;">&nbsp\;</div>\n\n<div style="color: rgb(0\, 0\, 0)\; font-family: Verdana\; font-size: 13.3333px\;"><span color="#3079a4"><a data-saferedirecturl="https://www.google.com/url?q=https://northcountyauctions.proxibid.com/asp/createbidder.asp&amp\;source=gmail&amp\;ust=1607105140454000&amp\;usg=AFQjCNFZCQ-yQ-3wePapEru6BOvEXROwyw" href="https://northcountyauctions.proxibid.com/asp/createbidder.asp" style="color: rgb(17\, 85\, 204)\;" target="_blank">https://northcountyauctions.<wbr />proxibid.com/asp/createbidder.<wbr />asp</a></span></div>\n\n<div style="color: rgb(0\, 0\, 0)\; font-size: 10pt\; font-family: verdana\, geneva\;">&nbsp\;</div>\n\n<div id="m_4984731672997302554auctionInfoBlock" style="color: rgb(0\, 0\, 0)\; font-size: 10pt\; font-family: verdana\, geneva\;">\n<div>Lots start closing Sunday\, December 6\, 2020&nbsp\;&nbsp\;|&nbsp\;&nbsp\;6:15 PM&nbsp\;Pacific</div>\n\n<div>\n<div>&nbsp\;</div>\n\n<div id="m_4984731672997302554StatusArea">\n<div id="m_4984731672997302554urgentIconAuction">&nbsp\;</div>\n</div>\n</div>\n</div>\n\n<div style="color: rgb(0\, 0\, 0)\; font-size: 10pt\; font-family: verdana\, geneva\;">\n<div id="m_4984731672997302554catalogSocialNetworking">&nbsp\;</div>\n</div>\n\n<div style="color: rgb(0\, 0\, 0)\; font-size: 10pt\; font-family: verdana\, geneva\;">\n<div>\n<div>\n<div>\n<div id="m_4984731672997302554auctionDescriptionAnchorPoint">\n<div><span id="m_4984731672997302554auctionDescription">Madwave Theatre\, Firestorm Air Hockey\, Fast n Furious Super Bikes\, etc. To get upcoming auctions\, text ncauctions to 77222. Email or text with questions (619) 787-4906 or&nbsp\;<a href="mailto:casey@northcountyauctions.com" style="color: rgb(17\, 85\, 204)\;" target="_blank">casey@northcountyauctions.com</a></span></div>\n</div>\n</div>\n</div>\n</div>\n</div>\n
LOCATION:www.northcountyauctions.com
UID:e.530.17757
SEQUENCE:3
DTSTAMP:20260420T111106Z
URL:https://business.poway.com/events/details/north-county-auctions-poway-arcade-games-auction-17757
END:VEVENT

END:VCALENDAR
