BEGIN:VCALENDAR
VERSION:2.0
PRODID:-//ChamberMaster//Event Calendar 2.0//EN
METHOD:PUBLISH
X-PUBLISHED-TTL:P3D
REFRESH-INTERVAL:P3D
CALSCALE:GREGORIAN
BEGIN:VEVENT
DTSTART;VALUE=DATE:20200821
DTEND;VALUE=DATE:20200824
TRANSP:TRANSPARENT
X-MICROSOFT-CDO-ALLDAYEVENT:TRUE
SUMMARY:North County Auctions - Coin Auction
DESCRIPTION:August 2020 Coin Collectors Auction\n\n \n\n\nLiberty Quarters\, Dimes\, Gold\, Half Dollars\, Morgans\, Special Mint Sets\, Proof Sets\, Silver Certificates\, Foreign Coins. To get on our auction list\, Text NCAuctions to 77222\n\n \n\n\n\nNorthCountyAuctions.Com
X-ALT-DESC;FMTTYPE=text/html:<h1 id="m_5504770848954536719AucTitle" style="color: rgb(0\, 0\, 0)\; font-family: Verdana\;">August 2020 Coin Collectors Auction</h1>\n\n<div style="color: rgb(0\, 0\, 0)\; font-family: Verdana\; font-size: 13.3333px\;">&nbsp\;</div>\n\n<div style="color: rgb(0\, 0\, 0)\; font-family: Verdana\; font-size: 13.3333px\;">\n<div id="m_5504770848954536719auctionDescriptionAnchorPoint"><span id="m_5504770848954536719auctionDescription">Liberty Quarters\, Dimes\, Gold\, Half Dollars\, Morgans\, Special Mint Sets\, Proof Sets\, Silver Certificates\, Foreign Coins. To get on our auction list\, Text NCAuctions to 77222</span><br />\n&nbsp\;</div>\n</div>\n\n<div id="m_5504770848954536719DescVerticalDivide" style="color: rgb(0\, 0\, 0)\; font-family: Verdana\; font-size: 13.3333px\;">\n<div id="m_5504770848954536719AucCompName"><a data-saferedirecturl="https://www.google.com/url?q=https://northcountyauctions.proxibid.com/aspr/NorthCountyAuctions-Com/11184/AuctionsByCompany.asp?ahid%3D11184&amp\;source=gmail&amp\;ust=1598131904887000&amp\;usg=AFQjCNGCjsnEhX2yhMx-h9tfpe6GV_snLg" href="https://northcountyauctions.proxibid.com/aspr/NorthCountyAuctions-Com/11184/AuctionsByCompany.asp?ahid=11184" style="color: rgb(17\, 85\, 204)\;" target="_blank">NorthCountyAuctions.Com</a></div>\n</div>\n
LOCATION:
UID:e.530.16853
SEQUENCE:3
DTSTAMP:20260420T151640Z
URL:https://business.poway.com/events/details/north-county-auctions-coin-auction-16853
END:VEVENT

END:VCALENDAR
