BEGIN:VCALENDAR
VERSION:2.0
PRODID:-//ChamberMaster//Event Calendar 2.0//EN
METHOD:PUBLISH
X-PUBLISHED-TTL:P3D
REFRESH-INTERVAL:P3D
CALSCALE:GREGORIAN
BEGIN:VEVENT
DTSTART;VALUE=DATE:20200827
DTEND;VALUE=DATE:20200829
TRANSP:TRANSPARENT
X-MICROSOFT-CDO-ALLDAYEVENT:TRUE
SUMMARY:North County Auctions - Bottling Assembly Line Auction
DESCRIPTION:August Bottling Assembly Line Auction\n\n \n\nKMT\, Industrial Checkweighers\, Labeling\, Sealing\, Packing Machines\, Conveyors etc. Forklift and driver on premises.\n\n\n\nhttps://northcountyauctions.proxibid.com/asp/Catalog.asp?aid=183564
X-ALT-DESC;FMTTYPE=text/html:<h1 id="m_148936883308505465AucTitle" style="color: rgb(0\, 0\, 0)\; font-family: Verdana\;">August Bottling Assembly Line Auction</h1>\n\n<div style="color: rgb(0\, 0\, 0)\; font-family: Verdana\; font-size: 13.3333px\;">&nbsp\;</div>\n\n<div style="color: rgb(0\, 0\, 0)\; font-family: Verdana\; font-size: 13.3333px\;">KMT\, Industrial Checkweighers\, Labeling\, Sealing\, Packing Machines\, Conveyors etc. Forklift and driver on premises.<br />\n<br />\n<a data-saferedirecturl="https://www.google.com/url?q=https://northcountyauctions.proxibid.com/asp/Catalog.asp?aid%3D183564&amp\;source=gmail&amp\;ust=1598131904878000&amp\;usg=AFQjCNG1tYB6jI5aRb__BmkEMCP2XY7JRg" href="https://northcountyauctions.proxibid.com/asp/Catalog.asp?aid=183564" style="color: rgb(17\, 85\, 204)\;" target="_blank">https://northcountyauctions.<wbr />proxibid.com/asp/Catalog.asp?<wbr />aid=183564</a></div>\n
LOCATION:
UID:e.530.16854
SEQUENCE:3
DTSTAMP:20260420T151732Z
URL:https://business.poway.com/events/details/north-county-auctions-bottling-assembly-line-auction-16854
END:VEVENT

END:VCALENDAR
