BEGIN:VCALENDAR
VERSION:2.0
PRODID:-//ChamberMaster//Event Calendar 2.0//EN
METHOD:PUBLISH
X-PUBLISHED-TTL:P3D
REFRESH-INTERVAL:P3D
CALSCALE:GREGORIAN
BEGIN:VEVENT
DTSTART:20201112T170000Z
DTEND:20201112T183000Z
X-MICROSOFT-CDO-ALLDAYEVENT:FALSE
SUMMARY:Non Profits: Maximize Your Chamber Membership Workshop
DESCRIPTION:Non Profit Chamber Members are encouraged to attend this live training on how to maximize your membership with the Chamber and how to use the tools available to members to connect with business members and the community.
X-ALT-DESC;FMTTYPE=text/html:Non Profit Chamber Members are encouraged to attend this live training on how to maximize your membership with the Chamber and how to use the tools available to members to connect with business members and the community.
LOCATION:Halcyon Real Estate Services (in person\, socially distanced) 14282 Danielson St. Poway\, CA 92064 Or\, virtually via Zoom Join Zoom Meeting https://us02web.zoom.us/j/86527968755?pwd=NGZuTFlDUExydGZGbW1sWXhaUGk0Zz09&from=addon Meeting ID: 865 2796 8755 Passcode: 678960 One tap mobile +16699006833\,\,86527968755#\,\,\,\,\,\,0#\,\,678960# US (San Jose) +13462487799\,\,86527968755#\,\,\,\,\,\,0#\,\,678960# US (Houston) Dial by your location +1 669 900 6833 US (San Jose) +1 346 248 7799 US (Houston) +1 253 215 8782 US (Tacoma) +1 312 626 6799 US (Chicago) +1 929 205 6099 US (New York) +1 301 715 8592 US (Germantown) Meeting ID: 865 2796 8755 Passcode: 678960 Find your local number: https://us02web.zoom.us/u/ktFgPf7JA
UID:e.530.17584
SEQUENCE:3
DTSTAMP:20260420T110833Z
URL:https://business.poway.com/events/details/non-profits-maximize-your-chamber-membership-workshop-17584
END:VEVENT

END:VCALENDAR
