BEGIN:VCALENDAR
VERSION:2.0
PRODID:-//ChamberMaster//Event Calendar 2.0//EN
METHOD:PUBLISH
X-PUBLISHED-TTL:P3D
REFRESH-INTERVAL:P3D
CALSCALE:GREGORIAN
BEGIN:VEVENT
DTSTART:20210624T003000Z
DTEND:20210624T013000Z
X-MICROSOFT-CDO-ALLDAYEVENT:FALSE
SUMMARY:Non-Profit Meet & Greet
DESCRIPTION:The Non-Profit Meet & Greet\, intended for non-profits or for-profit businesses looking to connect with non-profit organizations\, is now meeting in the evening on the 4th Wednesday of each month. \n\n \n\nThis event is free for Chamber members (guests of Chamber members may also attend for free). Includes light appetizers and one drink ticket\, courtesy of Poway Valley Senior Citizens Corporation (formerly Poway Senior Center).
X-ALT-DESC;FMTTYPE=text/html:<div style="caret-color: rgb(64\, 63\, 66)\; color: rgb(64\, 63\, 66)\; font-family: Arial\, Verdana\, Helvetica\, sans-serif\; font-size: 12px\;"><span style="font-size:14px\;">The&nbsp\;<span style="font-weight: bold\;">Non-Profit Meet &amp\; Greet</span>\, intended for non-profits or for-profit businesses looking to connect with non-profit organizations\, is now meeting in the evening on the 4th Wednesday of each month.&nbsp\;</span></div>\n\n<div style="caret-color: rgb(64\, 63\, 66)\; color: rgb(64\, 63\, 66)\; font-family: Arial\, Verdana\, Helvetica\, sans-serif\; font-size: 12px\;">&nbsp\;</div>\n\n<div style="caret-color: rgb(64\, 63\, 66)\; color: rgb(64\, 63\, 66)\; font-family: Arial\, Verdana\, Helvetica\, sans-serif\; font-size: 12px\;"><span style="font-size:14px\;">This event is free for Chamber members (guests of Chamber members may also attend for free).&nbsp\;<span style="color: rgb(34\, 34\, 34)\;">Includes light appetizers and one drink ticket\, courtesy of Poway Valley Senior Citizens Corporation (formerly Poway Senior Center).&nbsp\;&nbsp\;</span></span></div>\n\n<div align="center" style="caret-color: rgb(64\, 63\, 66)\; color: rgb(64\, 63\, 66)\; font-family: Arial\, Verdana\, Helvetica\, sans-serif\; font-size: 12px\; text-align: center\;">&nbsp\;</div>\n\n<div align="center" style="caret-color: rgb(64\, 63\, 66)\; color: rgb(64\, 63\, 66)\; font-family: Arial\, Verdana\, Helvetica\, sans-serif\; font-size: 12px\; text-align: center\;">&nbsp\;</div>\n
LOCATION:Non-Profit Meet & Greet (in-person only) June 23\, 2021\, 5:30pm Reruns Resale Shop 12511 Poway Road\, Suite E Poway\, CA 92064
UID:e.530.18174
SEQUENCE:3
DTSTAMP:20260419T234320Z
URL:https://business.poway.com/events/details/non-profit-member-networking-meeting-06-23-2021-18174
END:VEVENT

END:VCALENDAR
