BEGIN:VCALENDAR
VERSION:2.0
PRODID:-//ChamberMaster//Event Calendar 2.0//EN
METHOD:PUBLISH
X-PUBLISHED-TTL:P3D
REFRESH-INTERVAL:P3D
CALSCALE:GREGORIAN
BEGIN:VEVENT
DTSTART:20210526T153000Z
DTEND:20210526T163000Z
X-MICROSOFT-CDO-ALLDAYEVENT:FALSE
SUMMARY:Non-Profit Meet & Greet
DESCRIPTION:Poway Chamber non-profit members are invited to connect and share their current projects\, needs\, and opportunities with each other.  Business Chamber members interested in working with non-profits are welcome to attend.
X-ALT-DESC;FMTTYPE=text/html:Poway Chamber non-profit members are invited to connect and share their current projects\, needs\, and opportunities with each other.&nbsp\; Business Chamber members interested in working with non-profits are welcome to attend.&nbsp\;
LOCATION:This meeting will be virtual and in-person. Registrants will receive the virtual link prior to the meeting. In-person meeting location: Halcyon Real Estate 14282 Danielson Street Poway\, CA 92064
UID:e.530.18173
SEQUENCE:3
DTSTAMP:20260420T011435Z
URL:https://business.poway.com/events/details/non-profit-member-networking-meeting-05-26-2021-18173
END:VEVENT

END:VCALENDAR
