BEGIN:VCALENDAR
VERSION:2.0
PRODID:-//ChamberMaster//Event Calendar 2.0//EN
METHOD:PUBLISH
X-PUBLISHED-TTL:P3D
REFRESH-INTERVAL:P3D
CALSCALE:GREGORIAN
BEGIN:VEVENT
DTSTART:20220414T003000Z
DTEND:20220414T023000Z
X-MICROSOFT-CDO-ALLDAYEVENT:FALSE
SUMMARY:Non-Profit Meet & Greet
DESCRIPTION:Poway Chamber non-profit members are invited to connect and share their current projects\, needs\, and opportunities with each other.  Business Chamber members interested in working with non-profits are welcome to attend. \n\n\n	Networking 5:30-6pm\n	Meeting/Group Sharing 6-7pm\n	Networking 7-7:30pm
X-ALT-DESC;FMTTYPE=text/html:<div style="font-size: 18px\; letter-spacing: 1px\; box-sizing: border-box\; margin-top: 0px\; margin-bottom: 1rem\; color: rgb(75\, 85\, 111)\; font-family: omnes-pro\, sans-serif\;"><span style="font-family:tahoma\;"><span style="font-size:12px\;"><span style="box-sizing: border-box\;"><span style="box-sizing: border-box\;">Poway Chamber non-profit members are invited to connect and share their current projects\, needs\, and opportunities with each other.&nbsp\; Business Chamber members interested in working with non-profits are welcome to attend.&nbsp\;</span></span></span></span></div>\n\n<ul style="margin: 0px 10px 1rem\; box-sizing: border-box\;">\n	<li style="font-size: 18px\; letter-spacing: 1px\; box-sizing: border-box\; margin: 0px\;"><span style="font-family:tahoma\;"><span style="font-size:12px\;"><span style="box-sizing: border-box\;"><span style="box-sizing: border-box\;">Networking 5:30-6pm</span></span></span></span></li>\n	<li style="font-size: 18px\; letter-spacing: 1px\; box-sizing: border-box\; margin: 0px\;"><span style="font-family:tahoma\;"><span style="font-size:12px\;"><span style="box-sizing: border-box\;"><span style="box-sizing: border-box\;">Meeting/Group Sharing 6-7pm</span></span></span></span></li>\n	<li style="font-size: 18px\; letter-spacing: 1px\; box-sizing: border-box\; margin: 0px\;"><span style="font-family:tahoma\;"><span style="font-size:12px\;"><span style="box-sizing: border-box\;"><span style="box-sizing: border-box\;">Networking 7-7:30pm</span></span></span></span></li>\n</ul>\n
LOCATION:Reruns Resale Shoppe 12511 Poway Road\, Ste. E
UID:e.530.20029
SEQUENCE:3
DTSTAMP:20260420T041812Z
URL:https://business.poway.com/events/details/non-profit-meet-greet-04-13-2022-20029
END:VEVENT

END:VCALENDAR
