BEGIN:VCALENDAR
VERSION:2.0
PRODID:-//ChamberMaster//Event Calendar 2.0//EN
METHOD:PUBLISH
X-PUBLISHED-TTL:P3D
REFRESH-INTERVAL:P3D
CALSCALE:GREGORIAN
BEGIN:VEVENT
DTSTART:20220310T013000Z
DTEND:20220310T033000Z
X-MICROSOFT-CDO-ALLDAYEVENT:FALSE
SUMMARY:Non-Profit Meet & Greet
DESCRIPTION:The March Non-Profit Meet & Greet will be hosted by Chamber Member Anvil of Hope at their AleSmith Brewing Company Tasting Room! Complimentary 4 oz. beer tastings will be provided to registered guests. A food truck will be on site for those wishing to purchase food.\n\n\n\nPoway Chamber non-profit members are invited to connect and share their current projects\, needs\, and opportunities with each other.  Business Chamber members interested in working with non-profits are welcome to attend. \n\n\n	Networking 5:30-6pm\n	Meeting/Group Sharing 6-7pm\n	Networking 7-7:30pm
X-ALT-DESC;FMTTYPE=text/html:<div style="font-size: 18px\; letter-spacing: 1px\; box-sizing: border-box\; margin-top: 0px\; margin-bottom: 1rem\; color: rgb(75\, 85\, 111)\; font-family: omnes-pro\, sans-serif\;"><span style="font-size:12px\;"><span style="box-sizing: border-box\;"><span style="box-sizing: border-box\;">The March Non-Profit Meet &amp\; Greet will be hosted by Chamber Member Anvil of Hope at their AleSmith Brewing Company Tasting Room! Complimentary 4 oz. beer tastings will be provided to registered guests. A food truck will be on site for those wishing to purchase food.<br />\n<br />\nPoway Chamber non-profit members are invited to connect and share their current projects\, needs\, and opportunities with each other.&nbsp\; Business Chamber members interested in working with non-profits are welcome to attend.&nbsp\;</span></span></span></div>\n\n<ul style="margin: 0px 10px 1rem\; box-sizing: border-box\;">\n	<li style="font-size: 18px\; letter-spacing: 1px\; box-sizing: border-box\; margin: 0px\;"><span style="font-size:12px\;"><span style="box-sizing: border-box\;"><span style="box-sizing: border-box\;">Networking 5:30-6pm</span></span></span></li>\n	<li style="font-size: 18px\; letter-spacing: 1px\; box-sizing: border-box\; margin: 0px\;"><span style="font-size:12px\;"><span style="box-sizing: border-box\;"><span style="box-sizing: border-box\;">Meeting/Group Sharing 6-7pm</span></span></span></li>\n	<li style="font-size: 18px\; letter-spacing: 1px\; box-sizing: border-box\; margin: 0px\;"><span style="font-size:12px\;"><span style="box-sizing: border-box\;"><span style="box-sizing: border-box\;">Networking 7-7:30pm</span></span></span></li>\n</ul>\n
LOCATION:AleSmith Brewing Company 9990 AleSmith Ct. San Diego\, CA 92126
UID:e.530.20028
SEQUENCE:3
DTSTAMP:20260420T011710Z
URL:https://business.poway.com/events/details/non-profit-meet-greet-03-09-2022-20028
END:VEVENT

END:VCALENDAR
