BEGIN:VCALENDAR
VERSION:2.0
PRODID:-//ChamberMaster//Event Calendar 2.0//EN
METHOD:PUBLISH
X-PUBLISHED-TTL:P3D
REFRESH-INTERVAL:P3D
CALSCALE:GREGORIAN
BEGIN:VEVENT
DTSTART:20220523T170000Z
DTEND:20220523T180000Z
X-MICROSOFT-CDO-ALLDAYEVENT:FALSE
SUMMARY:Non-Profit Committee Meeting
DESCRIPTION:This committee will work to encourage and promote non-profit involvement for Chamber members\, and to unite local non-profits and charities with the Chamber and its members.
X-ALT-DESC;FMTTYPE=text/html:This committee will work to encourage and promote non-profit involvement for Chamber members\, and to unite local non-profits and charities with the Chamber and its members.
LOCATION:Meetings are both in-person and virtual. Halcyon Real Estate 14282 Danielson St.
UID:e.530.20431
SEQUENCE:3
DTSTAMP:20260420T055146Z
URL:https://business.poway.com/events/details/non-profit-committee-meeting-05-23-2022-20431
END:VEVENT

END:VCALENDAR
