BEGIN:VCALENDAR
VERSION:2.0
PRODID:-//ChamberMaster//Event Calendar 2.0//EN
METHOD:PUBLISH
X-PUBLISHED-TTL:P3D
REFRESH-INTERVAL:P3D
CALSCALE:GREGORIAN
BEGIN:VEVENT
DTSTART;VALUE=DATE:20201130
DTEND;VALUE=DATE:20201202
TRANSP:TRANSPARENT
X-MICROSOFT-CDO-ALLDAYEVENT:TRUE
SUMMARY:NCA: Online Boat Yard Auction
DESCRIPTION:Online Boat Yard Auction\n\n \n\nhttps://northcountyauctions.proxibid.com/NorthCountyAuctions-Com/2020-November-Chula-Vista-Boat-Yard/event-catalog/188016\n\n \n\nRelocation - Forklift\, ATV\, Specialty Tools\, Power Equipment etc. To get upcoming auctions\, text ncauctions to 77222. Email or text with questions (619) 787-4906. Casey@northcountyauctions.com
X-ALT-DESC;FMTTYPE=text/html:<h2 style="margin: 0px\; padding: 0px\; font-size: 14.95px\; color: rgb(48\, 121\, 164)\; font-family: Helvetica\, Arial\, sans-serif\; background-color: rgb(251\, 251\, 251)\;">Online Boat Yard&nbsp\;Auction</h2>\n\n<div style="color: rgb(34\, 34\, 34)\; font-family: Arial\, Helvetica\, sans-serif\; font-size: small\;">&nbsp\;</div>\n\n<div style="color: rgb(34\, 34\, 34)\; font-family: Arial\, Helvetica\, sans-serif\; font-size: small\;"><a data-saferedirecturl="https://www.google.com/url?q=https://northcountyauctions.proxibid.com/NorthCountyAuctions-Com/2020-November-Chula-Vista-Boat-Yard/event-catalog/188016&amp\;source=gmail&amp\;ust=1605721959237000&amp\;usg=AFQjCNGvroe4Ys8DLW-crsFt3CckHiTdYg" href="https://northcountyauctions.proxibid.com/NorthCountyAuctions-Com/2020-November-Chula-Vista-Boat-Yard/event-catalog/188016" style="color: rgb(17\, 85\, 204)\;" target="_blank">https://northcountyauctions.<wbr />proxibid.com/<wbr />NorthCountyAuctions-Com/2020-<wbr />November-Chula-Vista-Boat-<wbr />Yard/event-catalog/188016</a></div>\n\n<div style="color: rgb(34\, 34\, 34)\; font-family: Arial\, Helvetica\, sans-serif\; font-size: small\;">&nbsp\;</div>\n\n<div style="color: rgb(34\, 34\, 34)\; font-family: Arial\, Helvetica\, sans-serif\; font-size: small\;"><span style="color: rgb(0\, 0\, 0)\; font-size: 13px\; background-color: rgb(251\, 251\, 251)\;">Relocation - Forklift\, ATV\, Specialty Tools\, Power Equipment etc. To get upcoming auctions\, text ncauctions to 77222. Email or text with questions (619) 787-4906.&nbsp\;<a href="mailto:Casey@northcountyauctions.com" style="color: rgb(17\, 85\, 204)\;" target="_blank">Casey@northcountyauctions.com</a></span>&nbsp\;</div>\n
LOCATION:https://northcountyauctions.proxibid.com/NorthCountyAuctions-Com/2020-November-Chula-Vista-Boat-Yard/event-catalog/188016
UID:e.530.17749
SEQUENCE:3
DTSTAMP:20260420T093232Z
URL:https://business.poway.com/events/details/nca-online-boat-yard-auction-17749
END:VEVENT

END:VCALENDAR
