BEGIN:VCALENDAR
VERSION:2.0
PRODID:-//ChamberMaster//Event Calendar 2.0//EN
METHOD:PUBLISH
X-PUBLISHED-TTL:P3D
REFRESH-INTERVAL:P3D
CALSCALE:GREGORIAN
BEGIN:VEVENT
DTSTART:20220212T040000Z
DTEND:20220212T053000Z
X-MICROSOFT-CDO-ALLDAYEVENT:FALSE
SUMMARY:Naturally 7
DESCRIPTION:No instruments   just voices! New York's Naturally 7 are a music group with a distinctive a cappella style wherein each member "becomes an instrument\," using the human voice to create a specific sound. Naturally 7 have performed with Michael Bubl \, Coldplay\, Quincy Jones\, Herbie Hancock and Queen.  See them now before they move on to stadiums!
X-ALT-DESC;FMTTYPE=text/html:<span style="background-color:rgba(255\, 255\, 255\, 0.5)\; color:rgb(50\, 50\, 50)\; font-family:conduit itc\,sans-serif\; font-size:18px">No instruments &ndash\; just voices! New York&rsquo\;s Naturally 7 are a music group with a distinctive a cappella style wherein each member &ldquo\;becomes an instrument\,&rdquo\; using the human voice to create a specific sound. Naturally 7 have performed with Michael Bubl&eacute\;\, Coldplay\, Quincy Jones\, Herbie Hancock and Queen.&nbsp\; See them now before they move on to stadiums!</span>
LOCATION:The Poway Center for the Performing Arts 15498 Espola Rd. Poway\, CA 92064
UID:e.530.19868
SEQUENCE:3
DTSTAMP:20260419T233002Z
URL:https://business.poway.com/events/details/naturally-7-19868
END:VEVENT

END:VCALENDAR
