BEGIN:VCALENDAR
VERSION:2.0
PRODID:-//ChamberMaster//Event Calendar 2.0//EN
METHOD:PUBLISH
X-PUBLISHED-TTL:P3D
REFRESH-INTERVAL:P3D
CALSCALE:GREGORIAN
BEGIN:VEVENT
DTSTART;VALUE=DATE:20210530
DTEND;VALUE=DATE:20210601
TRANSP:TRANSPARENT
X-MICROSOFT-CDO-ALLDAYEVENT:TRUE
SUMMARY:Memorial Day Collectors Auction
DESCRIPTION:Memorial Day Collectors Auction\n\n\n\nSalvador Dali\, Kinkade\, Leroy Neimann\, Peter Max - Park West Gallery Art\, Jewelry\, Militaria\, Cards\, Coins\, Antiques\, etc. To get upcoming auctions\, text ncauctions to 77222. Email or text with questions (619) 787-4906 casey@northcountyauctions.com
X-ALT-DESC;FMTTYPE=text/html:<strong><a class="pageBreadcrumbLink" href="https://northcountyauctions.com/" style="color: rgb(0\, 0\, 0)\; text-decoration-line: none\;">Memorial Day Collectors Auction</a></strong><br />\n<br />\n<span style="background-color:rgb(251\, 251\, 251)\; color:rgb(0\, 0\, 0)\; font-family:arial\,helvetica\,sans-serif">Salvador Dali\, Kinkade\, Leroy Neimann\, Peter Max - Park West Gallery Art\, Jewelry\, Militaria\, Cards\, Coins\, Antiques\, etc. To get upcoming auctions\, text ncauctions to 77222. Email or text with questions (619) 787-4906 casey@northcountyauctions.com</span><br />\n&nbsp\;
LOCATION:https://northcountyauctions.com/
UID:e.530.19074
SEQUENCE:3
DTSTAMP:20260420T023705Z
URL:https://business.poway.com/events/details/memorial-day-collectors-auction-19074
END:VEVENT

END:VCALENDAR
