BEGIN:VCALENDAR
VERSION:2.0
PRODID:-//ChamberMaster//Event Calendar 2.0//EN
METHOD:PUBLISH
X-PUBLISHED-TTL:P3D
REFRESH-INTERVAL:P3D
CALSCALE:GREGORIAN
BEGIN:VEVENT
DTSTART:20151202T163000Z
DTEND:20151202T173000Z
X-MICROSOFT-CDO-ALLDAYEVENT:FALSE
SUMMARY:Membership Orientation
DESCRIPTION:The Member Orientation is for new\, current\, and prospective members to learn how to utilize the Chamber successfully.
X-ALT-DESC;FMTTYPE=text/html:The Member Orientation is for new\, current\, and prospective members to learn how to utilize the Chamber successfully.
LOCATION:Poway Chamber Office 14005B Midland Rd
UID:e.530.10960
SEQUENCE:3
DTSTAMP:20260424T051055Z
URL:https://business.poway.com/events/details/membership-orientation-12-02-2015-10960
END:VEVENT

END:VCALENDAR
