BEGIN:VCALENDAR
VERSION:2.0
PRODID:-//ChamberMaster//Event Calendar 2.0//EN
METHOD:PUBLISH
X-PUBLISHED-TTL:P3D
REFRESH-INTERVAL:P3D
CALSCALE:GREGORIAN
BEGIN:VEVENT
DTSTART:20160722T153000Z
DTEND:20160722T161500Z
X-MICROSOFT-CDO-ALLDAYEVENT:FALSE
SUMMARY:Membership Orientation
DESCRIPTION:Membership Orientation  - This interactive session is for new\, existing and prospective members. \n\n\n	Meet other new members.\n	Learn how to enhance your chamber directory listing.\n	Learn how to post a job\, a hot deal\, or a member-to-member discount.\n	Discover all the benefits of Chamber membership.
X-ALT-DESC;FMTTYPE=text/html:<strong><span style="font-family:verdana\;">Membership Orientation&nbsp\; -&nbsp\;This interactive session is for new\, existing and prospective members.</span> </strong>\n\n<ul>\n	<li><strong><em>Meet other new members.</em></strong></li>\n	<li><strong><em>Learn how to enhance your chamber directory listing.</em></strong></li>\n	<li><strong><em>Learn how to post a job\, a hot deal\, or a member-to-member discount.</em></strong></li>\n	<li><strong><em>Discover all the benefits of Chamber membership.</em></strong></li>\n</ul>\n
LOCATION:Poway Chamber Office 14005B Midland Rd Poway\, Ca 92064
UID:e.530.10001
SEQUENCE:3
DTSTAMP:20260420T043845Z
URL:https://business.poway.com/events/details/membership-orientation-07-22-2016-10001
END:VEVENT

END:VCALENDAR
