BEGIN:VCALENDAR
VERSION:2.0
PRODID:-//ChamberMaster//Event Calendar 2.0//EN
METHOD:PUBLISH
X-PUBLISHED-TTL:P3D
REFRESH-INTERVAL:P3D
CALSCALE:GREGORIAN
BEGIN:VEVENT
DTSTART:20190530T153000Z
DTEND:20190530T170000Z
X-MICROSOFT-CDO-ALLDAYEVENT:FALSE
SUMMARY:Member Orientation
DESCRIPTION:Find out how to use the tools the Chamber provides to help your business grow and prosper! For ALL members\, whether new or continuing! Continental breakfast provided.
X-ALT-DESC;FMTTYPE=text/html:Find out how to use the tools the Chamber provides to help your business grow and prosper! For ALL members\, whether new or continuing! Continental breakfast provided.&nbsp\;
LOCATION:Inspire Charter School 13915 Danielson Street #200 Poway CA 92064
UID:e.530.15969
SEQUENCE:3
DTSTAMP:20260420T151228Z
URL:https://business.poway.com/events/details/member-orientation-15969
END:VEVENT

END:VCALENDAR
