BEGIN:VCALENDAR
VERSION:2.0
PRODID:-//ChamberMaster//Event Calendar 2.0//EN
METHOD:PUBLISH
X-PUBLISHED-TTL:P3D
REFRESH-INTERVAL:P3D
CALSCALE:GREGORIAN
BEGIN:VEVENT
DTSTART:20220527T003000Z
DTEND:20220527T023000Z
X-MICROSOFT-CDO-ALLDAYEVENT:FALSE
SUMMARY:May Mixer @ PowPAC
DESCRIPTION:Join us for our May Mixer at PowPAC\, Poway's Community Theatre! Enjoy food\, drink\, networking\, drawing prizes\, and a chance at winning the $500 Rollover Jackpot\, sponsored by San Diego Laser Fat Loss.
X-ALT-DESC;FMTTYPE=text/html:<p>Join us for our May Mixer at PowPAC\, Poway&#39\;s Community Theatre! Enjoy food\, drink\, networking\, drawing prizes\, and a chance at winning the $500 Rollover Jackpot\, sponsored by San Diego Laser Fat Loss.</p>\n
LOCATION:PowPAC 13250 Poway Road
UID:e.530.20573
SEQUENCE:3
DTSTAMP:20260420T041522Z
URL:https://business.poway.com/events/details/may-mixer-powpac-20573
END:VEVENT

END:VCALENDAR
