BEGIN:VCALENDAR
VERSION:2.0
PRODID:-//ChamberMaster//Event Calendar 2.0//EN
METHOD:PUBLISH
X-PUBLISHED-TTL:P3D
REFRESH-INTERVAL:P3D
CALSCALE:GREGORIAN
BEGIN:VEVENT
DTSTART:20210528T003000Z
DTEND:20210528T023000Z
X-MICROSOFT-CDO-ALLDAYEVENT:FALSE
SUMMARY:May Mixer at Brigantine
DESCRIPTION:Join us for our May Mixer at Brigantine Poway! \n\n\n\nCome to network\, socialize\, win drawing prizes\, and more! Appetizers and a drink are provided courtesy of Brigantine. Additional food & drink are available for purchase.\n\n\n\nWe will meet in the Nautilus room that adjoins the outdoor patio and west lawn area\, so there will plenty of outdoor space (as well as indoor) for socializing. Attendees should enter via the sidewalk on the West side of the building\; not through the main entrance. \n\n\n\nFree for Poway Chamber members! \n\n\n\n$25 for non-members.
X-ALT-DESC;FMTTYPE=text/html:Join us for our May Mixer at Brigantine Poway!&nbsp\;<br />\n<br />\nCome to network\, socialize\, win drawing prizes\, and more! Appetizers and a drink are provided courtesy of Brigantine. Additional food &amp\; drink are available for purchase.<br />\n<br />\nWe will meet in the Nautilus room that adjoins the outdoor patio and west lawn area\, so there will plenty of outdoor space (as well as indoor) for socializing. <strong>Attendees should enter via the sidewalk on the West side of the building\; not through the main entrance.</strong>&nbsp\;<br />\n<br />\nFree for Poway Chamber members!&nbsp\;<br />\n<br />\n$25 for non-members.
LOCATION:Brigantine Poway 13445 Poway Road
UID:e.530.18931
SEQUENCE:3
DTSTAMP:20260420T010034Z
URL:https://business.poway.com/events/details/may-mixer-at-brigantine-18931
END:VEVENT

END:VCALENDAR
