BEGIN:VCALENDAR
VERSION:2.0
PRODID:-//ChamberMaster//Event Calendar 2.0//EN
METHOD:PUBLISH
X-PUBLISHED-TTL:P3D
REFRESH-INTERVAL:P3D
CALSCALE:GREGORIAN
BEGIN:VEVENT
DTSTART:20210112T200000Z
DTEND:20210112T210000Z
X-MICROSOFT-CDO-ALLDAYEVENT:FALSE
SUMMARY:Maximize Your Membership (Virtual Workshop)
DESCRIPTION:Bring your lunch and find out how to use the tools the Chamber provides to help your business grow and prosper! For ALL members\, whether new or continuing! We also invite non-members to attend\, to learn more about all the Chamber has to offer.
X-ALT-DESC;FMTTYPE=text/html:<span style="color: rgb(51\, 51\, 51)\; font-family: sans-serif\, Arial\, Verdana\, &quot\;Trebuchet MS&quot\;\; font-size: 13px\; background-color: rgb(255\, 255\, 255)\;">Bring your lunch and find out how to use the tools the Chamber provides to help your business grow and prosper! For ALL members\, whether new or continuing! We also invite non-members to attend\, to learn more about all the Chamber has to offer.</span>
LOCATION:This workshop will be held virtually. Join Zoom Meeting https://us02web.zoom.us/j/86946333910?pwd=ajhFcTBOQ1Q2TWhieFhxazYrdVIyQT09 Meeting ID: 869 4633 3910 Passcode: 195153 One tap mobile +16699006833\,\,86946333910#\,\,\,\,*195153# US (San Jose) +12532158782\,\,86946333910#\,\,\,\,*195153# US (Tacoma) Dial by your location +1 669 900 6833 US (San Jose) +1 253 215 8782 US (Tacoma) +1 346 248 7799 US (Houston) +1 929 205 6099 US (New York) +1 301 715 8592 US (Washington D.C) +1 312 626 6799 US (Chicago) Meeting ID: 869 4633 3910 Passcode: 195153 Find your local number: https://us02web.zoom.us/u/keCzdkowhn
UID:e.530.17900
SEQUENCE:3
DTSTAMP:20260420T074107Z
URL:https://business.poway.com/events/details/maximize-your-membership-virtual-workshop-17900
END:VEVENT

END:VCALENDAR
