BEGIN:VCALENDAR
VERSION:2.0
PRODID:-//ChamberMaster//Event Calendar 2.0//EN
METHOD:PUBLISH
X-PUBLISHED-TTL:P3D
REFRESH-INTERVAL:P3D
CALSCALE:GREGORIAN
BEGIN:VEVENT
DTSTART:20220120T200000Z
DTEND:20220120T210000Z
X-MICROSOFT-CDO-ALLDAYEVENT:FALSE
SUMMARY:Maximize Your Membership (In-Person Workshop)
DESCRIPTION:Join us to learn how to use the tools the Chamber provides to help your business grow and prosper! For ALL members\, whether new or continuing! We also invite non-members to attend\, to learn more about all the Chamber has to offer. Refreshments to be provided!\n\n\n\nYou are welcome to bring your laptop to follow along with the workshop\, and we will be available afterward for additional assistance and questions.
X-ALT-DESC;FMTTYPE=text/html:<span style="color: rgb(51\, 51\, 51)\; font-family: sans-serif\, Arial\, Verdana\, &quot\;Trebuchet MS&quot\;\; font-size: 13px\; background-color: rgb(255\, 255\, 255)\;">Join us to learn how to use the tools the Chamber provides to help your business grow and prosper! For ALL members\, whether new or continuing! We also invite non-members to attend\, to learn more about all the Chamber has to offer. Refreshments to be provided!<br />\n<br />\nYou are welcome to bring your laptop to follow along with the workshop\, and we will be available afterward for additional assistance and questions.</span>
LOCATION:This workshop will be IN-PERSON at Halcyon Real Estate 14282 Danielson Street Poway\, CA 92064
UID:e.530.20017
SEQUENCE:3
DTSTAMP:20260419T215418Z
URL:https://business.poway.com/events/details/maximize-your-membership-in-person-workshop-20017
END:VEVENT

END:VCALENDAR
