BEGIN:VCALENDAR
VERSION:2.0
PRODID:-//ChamberMaster//Event Calendar 2.0//EN
METHOD:PUBLISH
X-PUBLISHED-TTL:P3D
REFRESH-INTERVAL:P3D
CALSCALE:GREGORIAN
BEGIN:VEVENT
DTSTART:20200219T160000Z
DTEND:20200219T170000Z
X-MICROSOFT-CDO-ALLDAYEVENT:FALSE
SUMMARY:Maximize Your Membership
DESCRIPTION:Find out how to use the tools the Chamber provides to help your business grow and prosper! For ALL members\, whether new or continuing! Light refreshments provided.
X-ALT-DESC;FMTTYPE=text/html:Find out how to use the tools the Chamber provides to help your business grow and prosper! For ALL members\, whether new or continuing! Light refreshments provided.&nbsp\;
LOCATION:Halcyon Real Estate Services 14282 Danielson St Poway CA 92064
UID:e.530.16482
SEQUENCE:3
DTSTAMP:20260421T000641Z
URL:https://business.poway.com/events/details/maximize-your-membership-16482
END:VEVENT

END:VCALENDAR
