BEGIN:VCALENDAR
VERSION:2.0
PRODID:-//ChamberMaster//Event Calendar 2.0//EN
METHOD:PUBLISH
X-PUBLISHED-TTL:P3D
REFRESH-INTERVAL:P3D
CALSCALE:GREGORIAN
BEGIN:VEVENT
DTSTART:20201216T010000Z
DTEND:20201216T020000Z
X-MICROSOFT-CDO-ALLDAYEVENT:FALSE
SUMMARY:Marketing & Membership Committee
DESCRIPTION:The Marketing & Membership Committee will meet monthly on the 1st & 3rd Tuesday of the month to guide membership and promotion efforts for the Poway Chamber of Commerce. \n\n\n\nThis committee will meet via  Zoom until further notice.
X-ALT-DESC;FMTTYPE=text/html:<span style="color: rgb(75\, 85\, 111)\; font-family: omnes-pro\, sans-serif\; font-size: 17px\; letter-spacing: 1px\;">The Marketing &amp\; Membership Committee will meet monthly on the 1st &amp\; 3rd Tuesday of the month to guide membership and promotion efforts for the Poway Chamber of Commerce.&nbsp\;</span><br style="color: rgb(75\, 85\, 111)\; font-family: omnes-pro\, sans-serif\; font-size: 17px\; letter-spacing: 1px\;" />\n<br style="color: rgb(75\, 85\, 111)\; font-family: omnes-pro\, sans-serif\; font-size: 17px\; letter-spacing: 1px\;" />\n<span style="color: rgb(75\, 85\, 111)\; font-family: omnes-pro\, sans-serif\; font-size: 17px\; letter-spacing: 1px\;">This committee will meet via&nbsp\; Zoom until further notice.</span>
LOCATION:https://zoom.us/j/91329485530?pwd=bkN2THRKL2o5T0Uzc3dRcTB5MTQ5UT09
UID:e.530.17763
SEQUENCE:3
DTSTAMP:20260420T093247Z
URL:https://business.poway.com/events/details/marketing-membership-committee-17763
END:VEVENT

END:VCALENDAR
