BEGIN:VCALENDAR
VERSION:2.0
PRODID:-//ChamberMaster//Event Calendar 2.0//EN
METHOD:PUBLISH
X-PUBLISHED-TTL:P3D
REFRESH-INTERVAL:P3D
CALSCALE:GREGORIAN
BEGIN:VEVENT
DTSTART:20220325T003000Z
DTEND:20220325T023000Z
X-MICROSOFT-CDO-ALLDAYEVENT:FALSE
SUMMARY:March Mixer at The Hop Stop
DESCRIPTION:Our March Mixer at The Hop Stop will include networking\, food & drink\, a Rollover Jackpot\, drawing prizes\, and more! Stay tuned for more details.\n\n\n\nRollover Jackpot stands at $300 this month\, sponsored by Community Chiropractic.
X-ALT-DESC;FMTTYPE=text/html:Our March Mixer at The Hop Stop will include networking\, food &amp\; drink\, a Rollover Jackpot\, drawing prizes\, and more! Stay tuned for more details.<br />\n<br />\nRollover Jackpot stands at $300 this month\, sponsored by Community Chiropractic.
LOCATION:The Hop Stop 14055 Midland Road
UID:e.530.20025
SEQUENCE:3
DTSTAMP:20260420T025008Z
URL:https://business.poway.com/events/details/march-mixer-at-the-hop-stop-03-24-2022-20025
END:VEVENT

END:VCALENDAR
