BEGIN:VCALENDAR
VERSION:2.0
PRODID:-//ChamberMaster//Event Calendar 2.0//EN
METHOD:PUBLISH
X-PUBLISHED-TTL:P3D
REFRESH-INTERVAL:P3D
CALSCALE:GREGORIAN
BEGIN:VEVENT
DTSTART:20191208T010000Z
DTEND:20191208T050000Z
X-MICROSOFT-CDO-ALLDAYEVENT:FALSE
SUMMARY:Manchegos Chesses Every Saturday
DESCRIPTION:Manchegos\, Ibericos\, Cabrales\, Torta del Casar\, Tetilla\, Mahon.... All these cheeses are from Spain. Spain has a long history of making cheese that developed well before the Romans. Due to the varying climates and terrains throughout Spain\, each region in Spain made its own type of Spanish Cheese with available local ingredients. Do you want to try it? Please yourself and stop by! You will love it!
X-ALT-DESC;FMTTYPE=text/html:Manchegos\, Ibericos\, Cabrales\, Torta del Casar\, Tetilla\, Mahon.... All these cheeses are from Spain. Spain has a long history of making cheese that developed well before the Romans. Due to the varying climates and terrains throughout Spain\, each region in Spain made its own type of Spanish Cheese with available local ingredients. Do you want to try it? Please yourself and stop by! You will love it!
LOCATION:Mission Cellars Winery 14053 Midland Rd Poway CA 92064
UID:e.530.16321
SEQUENCE:3
DTSTAMP:20260421T044202Z
URL:https://business.poway.com/events/details/manchegos-chesses-every-saturday-16321
END:VEVENT

END:VCALENDAR
