BEGIN:VCALENDAR
VERSION:2.0
PRODID:-//ChamberMaster//Event Calendar 2.0//EN
METHOD:PUBLISH
X-PUBLISHED-TTL:P3D
REFRESH-INTERVAL:P3D
CALSCALE:GREGORIAN
BEGIN:VEVENT
DTSTART:20200913T020000Z
DTEND:20200913T030000Z
X-MICROSOFT-CDO-ALLDAYEVENT:FALSE
SUMMARY:Magic: Up Close and Virtual! LIVE PAY PER VIEW EVENT
DESCRIPTION:Tickets are now available for Poway OnStage's first virtual magic show starring award-winning magician Jon Armstrong. Live and Zoomed right into your home! You'll be part of an exclusive online\, interactive audience. Tickets are just $25. ADD a MAGIC WORKSHOP on Sunday\, September 13 at 1PM for just $10!
X-ALT-DESC;FMTTYPE=text/html:<h5>Tickets are now available for Poway OnStage&rsquo\;s first virtual magic show starring award-winning magician Jon Armstrong. Live and Zoomed right into your home! You&#39\;ll be part of an exclusive online\, interactive audience. Tickets are just $25. ADD a MAGIC WORKSHOP on Sunday\, September 13 at 1PM for just $10!</h5>\n
LOCATION:Virtual Event
UID:e.530.17357
SEQUENCE:3
DTSTAMP:20260420T134830Z
URL:https://business.poway.com/events/details/magic-up-close-and-virtual-live-pay-per-view-event-17357
END:VEVENT

END:VCALENDAR
