BEGIN:VCALENDAR
VERSION:2.0
PRODID:-//ChamberMaster//Event Calendar 2.0//EN
METHOD:PUBLISH
X-PUBLISHED-TTL:P3D
REFRESH-INTERVAL:P3D
CALSCALE:GREGORIAN
BEGIN:VEVENT
DTSTART:20210408T000000Z
DTEND:20210408T010000Z
X-MICROSOFT-CDO-ALLDAYEVENT:FALSE
SUMMARY:Lung Association Community Connections/"Dinner with the Docs" Wednesday Evening Series
DESCRIPTION:The American Lung Association is hard at work meeting the needs of all families\, neighbors\, and friends in our local communities. And\, achieving health equity is at the foundation of everything we do.  All individuals should have a fair and just opportunity to be as healthy as possible. This is why we've launched Community Connections    open talks with you\, your family and all communities in the Southern California region.  Co-hosts Tony Gwynn\, Jr. of the San Diego Padres and co-host Dr. Tim Morris of UCSD has nicknamed these useful gatherings\, having "Dinner with the Docs."  The series runs Wednesday\, March 31st and every Wednesday through May 5th from 5   6p.m. Click this link to register for free\, and to see each week's topic! Hope to see you there\, along with an impressive panel of doctors to talk with while having dinner   together we will help guide you and your family through COVID-19 and beyond safely.
X-ALT-DESC;FMTTYPE=text/html:<span style="font-size:12.0pt">The American Lung Association is hard at work meeting the needs of all families\, neighbors\, and friends in our local communities. And\, achieving health equity is at the foundation of everything we do.&nbsp\; All individuals should have a fair and just opportunity to be as healthy as possible.&nbsp\;This is why we&rsquo\;ve launched <strong><em>Community Connections</em></strong> &ndash\;&nbsp\; open talks with you\, your family and all communities in the Southern California region.&nbsp\; Co-hosts Tony Gwynn\, Jr. of the San Diego Padres and co-host Dr. Tim Morris of UCSD has nicknamed these useful gatherings\, having &ldquo\;Dinner with the Docs.&rdquo\;&nbsp\; The series runs <strong>Wednesday\, March 31<sup>st </sup>and every Wednesday through May 5<sup>th</sup> from 5 &ndash\; 6p.m</strong>. <a href="https://action.lung.org/site/Calendar?id=116186&amp\;view=Detail">Click this link to register</a> for free</span><span style="font-size:12.0pt">\, and to see each week&rsquo\;s topic! Hope to see you there\, along with an impressive panel of doctors to talk with while having dinner &ndash\; together we will help guide you and your family through COVID-19 and beyond safely.&nbsp\;</span>
LOCATION:Held on Zoom visit American Lung Association to register.
UID:e.530.18715
SEQUENCE:3
DTSTAMP:20260420T024937Z
URL:https://business.poway.com/events/details/lung-association-community-connections-dinner-with-the-docs-wednesday-evening-series-04-07-2021-18715
END:VEVENT

END:VCALENDAR
