BEGIN:VCALENDAR
VERSION:2.0
PRODID:-//ChamberMaster//Event Calendar 2.0//EN
METHOD:PUBLISH
X-PUBLISHED-TTL:P3D
REFRESH-INTERVAL:P3D
CALSCALE:GREGORIAN
BEGIN:VEVENT
DTSTART:20191208T023000Z
DTEND:20191208T043000Z
X-MICROSOFT-CDO-ALLDAYEVENT:FALSE
SUMMARY:Liberty Station
DESCRIPTION:We are happy to welcome Liberty Station back during Holidays Season. Join us and relax with a glass of MCW. Enjoy their original music. You won't regret!
X-ALT-DESC;FMTTYPE=text/html:We are happy to welcome Liberty Station back during Holidays Season. Join us and relax with a glass of MCW. Enjoy their original music. You won&#39\;t regret!
LOCATION:Mission Cellars Winery 14053 Midland Rd. Poway CA 92064
UID:e.530.16315
SEQUENCE:3
DTSTAMP:20260421T043726Z
URL:https://business.poway.com/events/details/liberty-station-16315
END:VEVENT

END:VCALENDAR
