BEGIN:VCALENDAR
VERSION:2.0
PRODID:-//ChamberMaster//Event Calendar 2.0//EN
METHOD:PUBLISH
X-PUBLISHED-TTL:P3D
REFRESH-INTERVAL:P3D
CALSCALE:GREGORIAN
BEGIN:VEVENT
DTSTART:20220522T030000Z
DTEND:20220522T043000Z
X-MICROSOFT-CDO-ALLDAYEVENT:FALSE
SUMMARY:Lee Rocker (of the Stray Cats)
DESCRIPTION:From the cover of the Rolling Stone magazine\, to appearing on Saturday Night Live\, to headlining the 1983 US Festival and touring with the Rolling Stones\, Lee Rocker has seen and done it all.\n\nRocker made his mark singing\, playing\, standing on\, spinning and rocking his giant upright bass as a founding member (along with Brian Setzer and Slim Jim Phantom)\, of the Grammy-nominated music group\, The Stray Cats. They sold more than 10 million albums\, garnered 23 gold and platinum certified records\, and were music video pioneers of MTV. The Stray Cat's worldwide mega hits "Stray Cat Strut\," "Sexy and Seventeen" and "Rock this Town" have become a part of the fabric of rock and roll.\n\nThe Rock and Roll Hall of Fame has included "Rock this Town" as one of the 500 most important rock songs. In addition to The Stray Cats and the Rolling Stones\, Rocker has toured and performed with George Harrison\, Ringo Starr\, Willie Nelson\, Leon Russell\, and John Fogerty. Rocker's 40 years of performing around the globe have attracted a fanatically loyal following of rockers\, rebels and music lovers.  His concert show is also a time for sharing colorful stories about his days on the road and in the music business over these past four decades.
X-ALT-DESC;FMTTYPE=text/html:<p>From the cover of the&nbsp\;<em>Rolling Stone</em>&nbsp\;magazine\, to appearing on Saturday Night Live\, to headlining the 1983 US Festival and touring with the Rolling Stones\,&nbsp\;<strong>Lee Rocker</strong>&nbsp\;has seen and done it all.</p>\n\n<p>Rocker made his mark singing\, playing\, standing on\, spinning and rocking his giant upright bass as a founding member (along with Brian Setzer and Slim Jim Phantom)\, of the Grammy-nominated music group\, The Stray Cats. They sold more than 10 million albums\, garnered 23 gold and platinum certified records\, and were music video pioneers of MTV. The Stray Cat&rsquo\;s worldwide mega hits &ldquo\;Stray Cat Strut\,&rdquo\; &ldquo\;Sexy and Seventeen&rdquo\; and &ldquo\;Rock this Town&rdquo\; have become a part of the fabric of rock and roll.</p>\n\n<p>The Rock and Roll Hall of Fame has included &ldquo\;Rock this Town&rdquo\; as one of the 500 most important rock songs. In addition to The Stray Cats and the Rolling Stones\, Rocker has toured and performed with George Harrison\, Ringo Starr\, Willie Nelson\, Leon Russell\, and John Fogerty. Rocker&rsquo\;s 40 years of performing around the globe have attracted a fanatically loyal following of rockers\, rebels and music lovers. &nbsp\;His concert show is also a time for sharing colorful stories about his days on the road and in the music business over these past four decades.</p>\n
LOCATION:The Poway Center for the Performing Arts 15498 Espola Rd. Poway\, CA 92064
UID:e.530.19875
SEQUENCE:3
DTSTAMP:20260420T041929Z
URL:https://business.poway.com/events/details/lee-rocker-of-the-stray-cats-19875
END:VEVENT

END:VCALENDAR
