BEGIN:VCALENDAR
VERSION:2.0
PRODID:-//ChamberMaster//Event Calendar 2.0//EN
METHOD:PUBLISH
X-PUBLISHED-TTL:P3D
REFRESH-INTERVAL:P3D
CALSCALE:GREGORIAN
BEGIN:VEVENT
DTSTART:20220528T160000Z
DTEND:20220528T200000Z
X-MICROSOFT-CDO-ALLDAYEVENT:FALSE
SUMMARY:Kicks Against Poverty
DESCRIPTION:Seven Spears Martial Arts is hosting a "kick-a-thon"  to raise money for Anvil of Hope!\n\n\n\nLearn more and donate at https://anvilofhope.org/upcoming-events/2022-kicks\n\n \nDuring this event students will use their class session to see how many kicks they can throw in the allotted time to raise money for Anvil of Hope!\n\nStudents range from age 3 to adult. You can sponsor a "kicker" by pledging a specified amount per kick and make your donation after the event or make a flat donation. Students are expected to perform anywhere from 150 to 300 kicks during their allotted time!\n\nIf you're not a karate student but would like to try throwing some kicks to support Anvil of Hope you are welcome! We'll have a special session time for new students to try it out and see how many kicks they can throw.
X-ALT-DESC;FMTTYPE=text/html:Seven Spears Martial Arts is hosting a &quot\;kick-a-thon&quot\;&nbsp\; to raise money for Anvil of Hope!<br />\n<br />\nLearn more and donate at&nbsp\;<a href="https://anvilofhope.org/upcoming-events/2022-kicks">https://anvilofhope.org/upcoming-events/2022-kicks</a><br />\n&nbsp\;\n<p style="margin: 0px 0px 1rem\; overflow-wrap: break-word\; color: rgb(255\, 183\, 27)\; font-family: aktiv-grotesk\; font-size: 16px\; background-color: rgb(243\, 227\, 204)\; white-space: pre-wrap\;">During this event students will use their class session to see how many kicks they can throw in the allotted time to raise money for <span class="sqsrte-text-color--lightAccent" style="text-decoration: inherit\; color: rgb(227\, 29\, 147)\; overflow-wrap: break-word\;">Anvil of Hope</span>!</p>\n\n<p style="margin: 1rem 0px\; overflow-wrap: break-word\; color: rgb(255\, 183\, 27)\; font-family: aktiv-grotesk\; font-size: 16px\; background-color: rgb(243\, 227\, 204)\; white-space: pre-wrap\;">Students range from age 3 to adult. You can sponsor a &quot\;kicker&quot\; by pledging a specified amount per kick and make your donation after the event or make a flat donation. Students are expected to perform anywhere from 150 to 300 kicks during their allotted time!</p>\n\n<p style="margin: 1rem 0px 0px\; overflow-wrap: break-word\; color: rgb(255\, 183\, 27)\; font-family: aktiv-grotesk\; font-size: 16px\; background-color: rgb(243\, 227\, 204)\; white-space: pre-wrap\;">If you&rsquo\;re not a karate student but would like to try throwing some kicks to support <span class="sqsrte-text-color--lightAccent" style="text-decoration: inherit\; color: rgb(227\, 29\, 147)\; overflow-wrap: break-word\;">Anvil of Hope</span> you are welcome! We&rsquo\;ll have a special session time for new students to try it out and see how many kicks they can throw.</p>\n
LOCATION:Seven Spears Martial Arts 12943 Pomerado Road
UID:e.530.20583
SEQUENCE:3
DTSTAMP:20260420T041449Z
URL:https://business.poway.com/events/details/kicks-against-poverty-20583
END:VEVENT

END:VCALENDAR
