BEGIN:VCALENDAR
VERSION:2.0
PRODID:-//ChamberMaster//Event Calendar 2.0//EN
METHOD:PUBLISH
X-PUBLISHED-TTL:P3D
REFRESH-INTERVAL:P3D
CALSCALE:GREGORIAN
BEGIN:VEVENT
DTSTART:20220729T003000Z
DTEND:20220729T023000Z
X-MICROSOFT-CDO-ALLDAYEVENT:FALSE
SUMMARY:July Mixer @ VFW
DESCRIPTION:Join us for our July Mixer at VFW Post 7907! A delicious hamburger (or veggie burger) meal will be available for $12 per person. A cash bar will also be available\, so come hungry - and thirsty! \n\nOur rollover jackpot sits at $600\, sponsored by new member\, The Archetype Barbershop!! All members in good standing who attend this mixer are eligible to win\, so don't miss out on this fun evening with your Chamber colleagues and friends at VFW Post 7907.
X-ALT-DESC;FMTTYPE=text/html:Join us for our July Mixer at VFW Post 7907! A delicious hamburger (or veggie burger) meal will be available for $12 per person. A cash bar will also be available\, so come hungry - and thirsty!&nbsp\;<br />\nOur rollover jackpot sits at $600\, sponsored by new member\, The Archetype Barbershop!! All members in good standing who attend this mixer are eligible to win\, so don&#39\;t miss out on this fun evening with your Chamber colleagues and friends at VFW Post 7907.
LOCATION:VFW Post 7907 12342 Old Pomerado Rd Poway\, CA 92064
UID:e.530.20579
SEQUENCE:3
DTSTAMP:20260422T131316Z
URL:https://business.poway.com/events/details/july-mixer-vfw-20579
END:VEVENT

END:VCALENDAR
