BEGIN:VCALENDAR
VERSION:2.0
PRODID:-//ChamberMaster//Event Calendar 2.0//EN
METHOD:PUBLISH
X-PUBLISHED-TTL:P3D
REFRESH-INTERVAL:P3D
CALSCALE:GREGORIAN
BEGIN:VEVENT
DTSTART:20201119T010000Z
DTEND:20201119T020000Z
X-MICROSOFT-CDO-ALLDAYEVENT:FALSE
SUMMARY:Joint Happy Hour with Carlsbad Chamber of Commerce
DESCRIPTION:The Poway Chamber of Commerce and Carlsbad Chamber of Commerce are excited to bring you a fun joint networking Happy Hour on Wednesday\, November 18. Meet new people\, network your business and have some fun. Please register on the Carlsbad Chamber's event page\, here.
X-ALT-DESC;FMTTYPE=text/html:The Poway Chamber of Commerce and Carlsbad Chamber of Commerce are excited to bring you a fun joint networking Happy Hour on Wednesday\, November 18. Meet new people\, network your business and have some fun.&nbsp\;<strong>Please register on the Carlsbad Chamber&#39\;s event page\, <a href="https://web.carlsbad.org/events/CBADVirtual%20Happy%20Hour%20with%20the%20Poway%20Chamber%20of%20Commerce-305/details">here</a>.</strong><br />\n&nbsp\;
LOCATION:https://us02web.zoom.us/meeting/register/tZItd-6grjsvG9bFm9ZKO-0Yx7VOaMjKq9dQ
UID:e.530.17587
SEQUENCE:3
DTSTAMP:20260420T111325Z
URL:https://business.poway.com/events/details/joint-happy-hour-with-carlsbad-chamber-of-commerce-17587
END:VEVENT

END:VCALENDAR
