BEGIN:VCALENDAR
VERSION:2.0
PRODID:-//ChamberMaster//Event Calendar 2.0//EN
METHOD:PUBLISH
X-PUBLISHED-TTL:P3D
REFRESH-INTERVAL:P3D
CALSCALE:GREGORIAN
BEGIN:VEVENT
DTSTART:20220128T013000Z
DTEND:20220128T033000Z
X-MICROSOFT-CDO-ALLDAYEVENT:FALSE
SUMMARY:January Mixer / Health & Wellness Expo
DESCRIPTION:Thank you to our vendors who participated:\n\n*Indicates vendor is a Poway Chamber of Commerce Member\n\n\n	Seven Spears Martial Arts*\n	Bobbie's Travel*\n	Cadence at Poway Gardens*\n	Capital Financial Consultants Group*\n	Children's Physicians Medical Group*\n	Colonial Life San Diego*\n	My San Diego North County*\n	Over the Influence Recovery*\n	Palomar Health Foundation*\n	Ridgeview Health Center*\n	Solas Rejuvenation + Wellness*\n	Sulistio Insurance*\n	Sunrise of Sabre Springs*\n	Whitney Wellness*\n	Acupuncture Wellness*\n	Apreva Hospice\n	Coach Chelsea G.\n	El Camino Memorial Park\n	Elegant Legacy Home Care\n	Live Laugh Love with Amy\n	Rhombus Counseling\n	Stemtech\n\n\n\n\n\n\nJoin us for a Health & Wellness Expo at our January Mixer!  All the fun you know and love from our usual Mixers\, plus a bonus Health & Wellness expo to meet our local providers\, learn helpful tips\, win prizes\, and much more. Visit all the vendor tables\, get your Vendor Passport stamped\, and you can enter to win a grand prize!\n\n\n\nThe community is invited to attend at no cost\, but registration is required. If you register and have not received a registration confirmation email\, please call the office at 858-748-0016.\n\n\n\nVENDORS/EXHIBITORS:\n\nHealth & Wellness providers interested in a vendor space can sign up through the registration link. Chamber members can exhibit for $25\, non-members for $75 (if you join the Chamber afterward\, $50 will go towards your application fee!) One table will be provided per exhibitor. Vendor registration will close Wednesday\, Jan. 26 at 12 pm.\n\n\n\nPlease note we are required to follow CDPH guidance for masking in public places. Per their website\, the California Department of Public Health (CDPH) is requiring masks to be worn in all indoor public settings\, irrespective of vaccine status\, until February 15\, 2022.
X-ALT-DESC;FMTTYPE=text/html:<p><strong>Thank you to our vendors who participated:</strong><br />\n<em>*Indicates vendor is a Poway Chamber of Commerce Member</em></p>\n\n<ul style="color: rgb(34\, 34\, 34)\; font-family: Arial\, Helvetica\, sans-serif\; font-size: small\;">\n	<li style="margin-left: 15px\;"><font face="tahoma\, sans-serif"><span style="color: rgb(0\, 0\, 0)\;">Seven Spears Martial Arts*</span></font></li>\n	<li style="margin-left: 15px\;"><font face="tahoma\, sans-serif">Bobbie&#39\;s Travel*</font></li>\n	<li style="margin-left: 15px\;"><font face="tahoma\, sans-serif">Cadence at Poway Gardens*</font></li>\n	<li style="margin-left: 15px\;"><font face="tahoma\, sans-serif">Capital Financial Consultants Group*</font></li>\n	<li style="margin-left: 15px\;"><font face="tahoma\, sans-serif">Children&#39\;s Physicians Medical Group*</font></li>\n	<li style="margin-left: 15px\;"><font face="tahoma\, sans-serif">Colonial Life San Diego*</font></li>\n	<li style="margin-left: 15px\;"><font face="tahoma\, sans-serif">My San Diego North County*</font></li>\n	<li style="margin-left: 15px\;"><font face="tahoma\, sans-serif">Over the Influence Recovery*</font></li>\n	<li style="margin-left: 15px\;"><font face="tahoma\, sans-serif">Palomar Health Foundation*</font></li>\n	<li style="margin-left: 15px\;"><font face="tahoma\, sans-serif">Ridgeview Health Center*</font></li>\n	<li style="margin-left: 15px\;"><font face="tahoma\, sans-serif">Solas Rejuvenation + Wellness*</font></li>\n	<li style="margin-left: 15px\;"><font face="tahoma\, sans-serif">Sulistio Insurance*</font></li>\n	<li style="margin-left: 15px\;"><font face="tahoma\, sans-serif">Sunrise of Sabre Springs*</font></li>\n	<li style="margin-left: 15px\;"><font face="tahoma\, sans-serif">Whitney Wellness*</font></li>\n	<li style="margin-left: 15px\;"><font face="tahoma\, sans-serif">Acupuncture Wellness*</font></li>\n	<li style="margin-left: 15px\;"><font face="tahoma\, sans-serif">Apreva Hospice</font></li>\n	<li style="margin-left: 15px\;"><font face="tahoma\, sans-serif">Coach Chelsea G.</font></li>\n	<li style="margin-left: 15px\;"><font face="tahoma\, sans-serif">El Camino Memorial Park</font></li>\n	<li style="margin-left: 15px\;"><font face="tahoma\, sans-serif">Elegant Legacy Home Care</font></li>\n	<li style="margin-left: 15px\;"><font face="tahoma\, sans-serif">Live Laugh Love with Amy</font></li>\n	<li style="margin-left: 15px\;"><font face="tahoma\, sans-serif">Rhombus Counseling</font></li>\n	<li style="margin-left: 15px\;"><font face="tahoma\, sans-serif">Stemtech</font></li>\n</ul>\n\n<p><br />\n<br />\nJoin us for a Health &amp\; Wellness Expo at our January Mixer!&nbsp\; All the fun you know and love from our usual Mixers\, plus a bonus Health &amp\; Wellness expo to meet our local providers\, learn helpful tips\, win prizes\, and much more. Visit all the vendor tables\, get your Vendor Passport stamped\, and you can enter to win a grand prize!<br />\n<br />\nThe community is invited to attend at no cost\, but registration is required.&nbsp\;If you register and have not received a registration confirmation email\, please call the office at 858-748-0016.<br />\n<br />\n<u>VENDORS/EXHIBITORS:</u><br />\nHealth &amp\; Wellness providers interested in a vendor space can sign up through the registration link. Chamber members can exhibit for $25\, non-members for $75 (if you join the Chamber afterward\, $50 will go towards your application fee!) One table will be provided per exhibitor.<strong> Vendor registration will close Wednesday\, Jan. 26 at 12 pm.</strong><br />\n<br />\n<span style="font-size:14px\;">Please note we are required to follow CDPH guidance for masking in public places. <a href="https://www.cdph.ca.gov/Programs/CID/DCDC/Pages/COVID-19/guidance-for-face-coverings.aspx">Per their website</a>\,&nbsp\;<span sans="" source="" style="color: rgb(32\, 32\, 32)\; font-family: ">the California Department of Public Health (CDPH)</span><span sans="" source="" style="box-sizing: border-box\; font-weight: 700\; color: rgb(32\, 32\, 32)\; font-family: ">&nbsp\;is requiring masks to be worn in all indoor public settings\, irrespective of vaccine status\, until February 15\, 2022.</span></span></p>\n
LOCATION:POWAY UNIFIED SCHOOL DISTRICT 15250 Avenue of Science San Diego\, CA 92128
UID:e.530.20016
SEQUENCE:3
DTSTAMP:20260419T233516Z
URL:https://business.poway.com/events/details/january-mixer-health-wellness-expo-20016
END:VEVENT

END:VCALENDAR
