BEGIN:VCALENDAR
VERSION:2.0
PRODID:-//ChamberMaster//Event Calendar 2.0//EN
METHOD:PUBLISH
X-PUBLISHED-TTL:P3D
REFRESH-INTERVAL:P3D
CALSCALE:GREGORIAN
BEGIN:VEVENT
DTSTART:20260123T013000Z
DTEND:20260123T033000Z
X-MICROSOFT-CDO-ALLDAYEVENT:FALSE
SUMMARY:January Mixer
DESCRIPTION:Kick off the New Year at our January Mixer! Join us for a vibrant evening of networking\, collaboration\, and business connections. It's a fantastic opportunity to meet fellow chamber members\, local entrepreneurs\, and community leaders. Enjoy delicious food\, drinks\, networking\, prizes\, and a chance to win the $200 Rollover Jackpot! Appetizers provided\; beverages for purchase. We can't wait to celebrate with you!\n\n\n\nFree for Chamber members and first-time guests\; $25 for returning guests. If you are attending one of our events for the first time\, please call our office at (858)-748-0016 for free entry as a first-time guest! Registration is required for this event. A $10 late fee will apply if registering within 2 days of the event\, and a $10 walk-in fee will also be enforced for those who do not register in advance.\n\n\n\nWould you like to donate a drawing prize? Please email us!\n\n\n\n*Chamber members who register and attend the mixer\, and whose membership is in good standing\, are eligible to win the Rollover Jackpot.
X-ALT-DESC;FMTTYPE=text/html:<span id="docs-internal-guid-3f83fc5c-7fff-1487-5019-cab05987eeb0"><span style="font-size: 12pt\; font-family: Montserrat\, sans-serif\; background-color: transparent\; font-variant-numeric: normal\; font-variant-east-asian: normal\; font-variant-alternates: normal\; font-variant-position: normal\; font-variant-emoji: normal\; vertical-align: baseline\; white-space-collapse: preserve\;">Kick off the New Year at our January Mixer! Join us for a vibrant evening of networking\, collaboration\, and business connections. It&#39\;s a fantastic opportunity to meet fellow chamber members\, local entrepreneurs\, and community leaders. Enjoy delicious food\, drinks\, networking\, prizes\, and a chance to win the $200 Rollover Jackpot! Appetizers provided\; beverages for purchase. We can&#39\;t wait to celebrate with you!</span></span><br />\n<br />\n<span style="font-size: 14px\;">Free for Chamber members and first-time guests\; $25 for returning guests. If you are attending one of our events for the first time\, please call our office at <strong>(858)-748-0016</strong> for free entry as a first-time guest!&nbsp\;</span><span style="box-sizing: border-box\; font-weight: bolder\; font-size: 14px\;">Registration is required for this event</span><span style="font-size: 14px\;">.&nbsp\;</span><em style="box-sizing: border-box\; font-size: 14px\;">A $10 late fee will apply if registering within 2 days of the event\, and a $10 walk-in fee will also be enforced for those who do not register in advance.</em><br />\n<br />\n<span style="font-size:18px\;"><em><span style="font-size:16px\;">Would you like to donate a drawing prize? <a href="mailto:faire@poway.com?subject=Mixer%20Drawing%20Prize%20Donation">Please email us!</a><br />\n<br />\n*Chamber members who register and attend the mixer\, and whose membership is in good standing\, are eligible to win the Rollover Jackpot.</span></em></span>
LOCATION:Mainstream Bar & Grill 13385 Poway Road Poway CA 92064
UID:e.530.24206
SEQUENCE:3
DTSTAMP:20260420T230545Z
URL:https://business.poway.com/events/details/january-mixer-24206
END:VEVENT

END:VCALENDAR
