BEGIN:VCALENDAR
VERSION:2.0
PRODID:-//ChamberMaster//Event Calendar 2.0//EN
METHOD:PUBLISH
X-PUBLISHED-TTL:P3D
REFRESH-INTERVAL:P3D
CALSCALE:GREGORIAN
BEGIN:VEVENT
DTSTART:20200208T230000Z
DTEND:20200209T020000Z
X-MICROSOFT-CDO-ALLDAYEVENT:FALSE
SUMMARY:Janet Bark Photography Ribbon Cutting
DESCRIPTION:Janet Bark Photography is having a grand opening of their Poway Portrait Studio! Light refreshments\, giveaways and fun!
X-ALT-DESC;FMTTYPE=text/html:Janet Bark Photography is having a grand opening of their Poway Portrait Studio! Light refreshments\, giveaways and fun!&nbsp\;
LOCATION:13135 Danielson Street\, #208 Poway CA 92064
UID:e.530.16475
SEQUENCE:3
DTSTAMP:20260421T014510Z
URL:https://business.poway.com/events/details/janet-bark-photography-ribbon-cutting-16475
END:VEVENT

END:VCALENDAR
