BEGIN:VCALENDAR
VERSION:2.0
PRODID:-//ChamberMaster//Event Calendar 2.0//EN
METHOD:PUBLISH
X-PUBLISHED-TTL:P3D
REFRESH-INTERVAL:P3D
CALSCALE:GREGORIAN
BEGIN:VEVENT
DTSTART:20200421T183000Z
DTEND:20200421T200000Z
X-MICROSOFT-CDO-ALLDAYEVENT:FALSE
SUMMARY:How to be Effective Selling From Home
DESCRIPTION:We're living in unique times to say the least. Business owners are scrambling to maintain control of their livelihoods and don't know where to turn. Salespeople are all working from home and have no idea how to do so. We all need support\, guidance\, accountability\, motivation and inspiration to help us navigate this very unique time we're living in.\n\nThe Poway Chamber of Commerce has partnered with Steve Heroux with Victory Selling to bring you a valuable virtual workshop.\n\n What you'll learn:\n\n\n	How to be more productive in a work-from-home environment.\n	How to use your time more effectively and efficiently.\n	How to focus better and eliminate the distractions going on at home.\n	How to improve your sales skills and mindset to emerge much better when this is all over!\n\n\n You won't want to miss this valuable opportunity!\n\n\n\nJoins us here:  https://zoom.us/j/655853097?pwd=ZVhYM2sxNEMrb2dabWhZbTJ6TnN3QT09
X-ALT-DESC;FMTTYPE=text/html:<div style="box-sizing: border-box\; margin: 0px 0px 20px\; padding: 0px\; border: 0px\; font-family: muliregular\, sans-serif\; font-size: 20px\; font-stretch: inherit\; line-height: 28px\; vertical-align: baseline\; color: rgb(0\, 0\, 0)\;"><span style="font-size:16px\;"><strong>We&rsquo\;re living in unique times to say the least. </strong>Business owners are scrambling to maintain control of their livelihoods and don&rsquo\;t know where to turn. Salespeople are all working from home and have no idea how to do so. We all need support\, guidance\, accountability\, motivation and inspiration to help us navigate this very unique time we&rsquo\;re living in.</span></div>\n\n<div style="box-sizing: border-box\; margin: 0px 0px 20px\; padding: 0px\; border: 0px\; font-family: muliregular\, sans-serif\; font-size: 20px\; font-stretch: inherit\; line-height: 28px\; vertical-align: baseline\; color: rgb(0\, 0\, 0)\;"><span style="font-size:16px\;"><strong>The Poway Chamber of Commerce has partnered with Steve Heroux with Victory Selling&nbsp\;to bring you a valuable virtual workshop.</strong></span></div>\n\n<div style="box-sizing: border-box\; margin: 0px 0px 20px\; padding: 0px\; border: 0px\; font-family: muliregular\, sans-serif\; font-size: 20px\; font-stretch: inherit\; line-height: 28px\; vertical-align: baseline\; color: rgb(0\, 0\, 0)\;"><span style="font-size:16px\;">&nbsp\;What you&rsquo\;ll learn:</span></div>\n\n<ul>\n	<li style="box-sizing: border-box\; margin: 0px 0px 20px\; padding: 0px\; border: 0px\; font-family: muliregular\, sans-serif\; font-size: 20px\; font-stretch: inherit\; line-height: 28px\; vertical-align: baseline\; color: rgb(0\, 0\, 0)\;"><span style="font-size:16px\;">How to be more productive in a work-from-home environment.</span></li>\n	<li style="box-sizing: border-box\; margin: 0px 0px 20px\; padding: 0px\; border: 0px\; font-family: muliregular\, sans-serif\; font-size: 20px\; font-stretch: inherit\; line-height: 28px\; vertical-align: baseline\; color: rgb(0\, 0\, 0)\;"><span style="font-size:16px\;">How to use your time more effectively and efficiently.</span></li>\n	<li style="box-sizing: border-box\; margin: 0px 0px 20px\; padding: 0px\; border: 0px\; font-family: muliregular\, sans-serif\; font-size: 20px\; font-stretch: inherit\; line-height: 28px\; vertical-align: baseline\; color: rgb(0\, 0\, 0)\;"><span style="font-size:16px\;">How to focus better and eliminate the distractions going on at home.</span></li>\n	<li style="box-sizing: border-box\; margin: 0px 0px 20px\; padding: 0px\; border: 0px\; font-family: muliregular\, sans-serif\; font-size: 20px\; font-stretch: inherit\; line-height: 28px\; vertical-align: baseline\; color: rgb(0\, 0\, 0)\;"><span style="font-size:16px\;">How to improve your sales skills and mindset to emerge much better when this is all over!</span></li>\n</ul>\n\n<div style="box-sizing: border-box\; margin: 0px 0px 20px\; padding: 0px\; border: 0px\; font-stretch: inherit\; line-height: 28px\; vertical-align: baseline\;"><span style="font-size:16px\;"><span style="color: rgb(0\, 0\, 0)\; font-family: muliregular\, sans-serif\;">&#8203\;You won&#39\;t want to miss this valuable&nbsp\;</span><font color="#000000" face="muliregular\, sans-serif"><span style="caret-color: rgb(0\, 0\, 0)\;">opportunity!<br />\n<br />\n<strong>Joins us here:&nbsp\;</strong></span></font><span style="caret-color: rgb(34\, 34\, 34)\; color: rgb(34\, 34\, 34)\; font-family: Arial\, Helvetica\, sans-serif\;">&nbsp\;</span><a data-saferedirecturl="https://www.google.com/url?q=https://zoom.us/j/655853097?pwd%3DZVhYM2sxNEMrb2dabWhZbTJ6TnN3QT09&amp\;source=gmail&amp\;ust=1586472088354000&amp\;usg=AFQjCNG_6Rcc6GY0Pd_B1Vb7HRPfOzGhQQ" href="https://zoom.us/j/655853097?pwd=ZVhYM2sxNEMrb2dabWhZbTJ6TnN3QT09" style="color: rgb(17\, 85\, 204)\; font-family: Arial\, Helvetica\, sans-serif\; font-size: 13.33px\; font-variant-ligatures: normal\; font-variant-east-asian: normal\; font-variant-position: normal\;" target="_blank">https://zoom.us/j/<wbr />655853097?pwd=<wbr />ZVhYM2sxNEMrb2dabWhZbTJ6TnN3QT<wbr />09</a></span></div>\n
LOCATION:Follow this link: https://zoom.us/j/655853097?pwd=ZVhYM2sxNEMrb2dabWhZbTJ6TnN3QT09
UID:e.530.16495
SEQUENCE:3
DTSTAMP:20260420T224325Z
URL:https://business.poway.com/events/details/how-to-be-effective-selling-from-home-16495
END:VEVENT

END:VCALENDAR
