BEGIN:VCALENDAR
VERSION:2.0
PRODID:-//ChamberMaster//Event Calendar 2.0//EN
METHOD:PUBLISH
X-PUBLISHED-TTL:P3D
REFRESH-INTERVAL:P3D
CALSCALE:GREGORIAN
BEGIN:VEVENT
DTSTART:20210611T003000Z
DTEND:20210611T023000Z
X-MICROSOFT-CDO-ALLDAYEVENT:FALSE
SUMMARY:Hop Stop Happy Hour
DESCRIPTION:Come join us at The Hop Stop in Poway to enjoy one FREE BEER on us! No RSVP necessary. Just let your server know you are there for the Beer Home Team event and your drink will be taken care of. Invite your friends\, grab some delicious food and have a drink on Beer Home Team!\n\n\n\n *Valid for one beer per person*
X-ALT-DESC;FMTTYPE=text/html:Come join us at The Hop Stop in Poway to enjoy one FREE BEER on us! No RSVP necessary. Just let your server know you are there for the Beer Home Team event and your drink will be taken care of. Invite your friends\, grab some delicious food and have a drink on Beer Home Team!<br />\n<br />\n&nbsp\;*Valid for one beer per person*
LOCATION:Location: The Hop Stop Address: 114055 Midland Rd\, Poway\, CA 92064
UID:e.530.19076
SEQUENCE:3
DTSTAMP:20260419T234052Z
URL:https://business.poway.com/events/details/hop-stop-happy-hour-19076
END:VEVENT

END:VCALENDAR
