BEGIN:VCALENDAR
VERSION:2.0
PRODID:-//ChamberMaster//Event Calendar 2.0//EN
METHOD:PUBLISH
X-PUBLISHED-TTL:P3D
REFRESH-INTERVAL:P3D
CALSCALE:GREGORIAN
BEGIN:VEVENT
DTSTART:20201211T013000Z
DTEND:20201211T030000Z
X-MICROSOFT-CDO-ALLDAYEVENT:FALSE
SUMMARY:Holiday Mixer - Virtual
DESCRIPTION:12/7/20 UPDATE: The Holiday Mixer will be held virtually only\, due to the new Regional Stay Home Order affecting San Diego County. For those who have registered and paid to attend\, you have the option of being refunded\, or your registration fee can be held as a credit on your account to use at the next in-person event. Please email chamber@poway.com if you would like to request a refund. We apologize for the inconvenience and disappointment!\n\n_______________________________________________________________________________\n\n\n\nJoin us for a special Holiday Mixer! Wear your best "Ugly Sweater"\, grab your favorite holiday drink and hop on to our Virtual event to network\, socialize\, and try your luck at winning the $500 Rollover Jackpot.\n\n\n\nOur Rollover Jackpot is now up to a whopping $500!!! Thank you to our Rollover Sponsor\, Community Chiropractic Center. Only Members in good standing and attending the event will be eligible to win the Rollover Jackpot.\n\n\n\nTopic: HOLIDAY MIXER - VIRTUAL\n\nTime: Dec 10\, 2020 05:30 PM Pacific Time (US and Canada)\n\n\n\nJoin Zoom Meeting\n\nhttps://us02web.zoom.us/j/84620960324?pwd=SjdmRFcyNWFWaHhhVzlpcFNNWjVvQT09\n\n\n\nMeeting ID: 846 2096 0324\n\nPasscode: 949043\n\nOne tap mobile\n\n+16699006833\,\,84620960324#\,\,\,\,\,\,0#\,\,949043# US (San Jose)\n\n+12532158782\,\,84620960324#\,\,\,\,\,\,0#\,\,949043# US (Tacoma)\n\n\n\nDial by your location\n\n        +1 669 900 6833 US (San Jose)\n\n        +1 253 215 8782 US (Tacoma)\n\n        +1 346 248 7799 US (Houston)\n\n        +1 312 626 6799 US (Chicago)\n\n        +1 929 205 6099 US (New York)\n\n        +1 301 715 8592 US (Washington D.C)\n\nMeeting ID: 846 2096 0324\n\nPasscode: 949043\n\nFind your local number: https://us02web.zoom.us/u/kbnzJSXahZ
X-ALT-DESC;FMTTYPE=text/html:12/7/20 UPDATE: The Holiday Mixer will be held virtually only\, due to the new Regional Stay Home Order affecting San Diego County. For those who have registered and paid to attend\, you have the option of being refunded\, or your registration fee can be held as a credit on your account to use at the next in-person event. Please email chamber@poway.com if you would like to request a refund. We apologize for the inconvenience and disappointment!<br />\n_______________________________________________________________________________<br />\n<br />\nJoin us for a special Holiday Mixer! Wear your best &quot\;Ugly Sweater&quot\;\, grab your favorite holiday drink and hop on to our Virtual event to network\, socialize\, and try your luck at winning the $500 Rollover Jackpot.<br />\n<br />\nOur Rollover Jackpot is now up to a whopping $500!!! Thank you to our Rollover Sponsor\, Community Chiropractic Center. Only Members in good standing and attending the event will be eligible to win the Rollover Jackpot.<br />\n<br />\n<span style="color: rgb(34\, 34\, 34)\; font-family: Arial\, Helvetica\, sans-serif\; font-size: small\;">Topic: HOLIDAY MIXER - VIRTUAL</span><br style="color: rgb(34\, 34\, 34)\; font-family: Arial\, Helvetica\, sans-serif\; font-size: small\;" />\n<span style="color: rgb(34\, 34\, 34)\; font-family: Arial\, Helvetica\, sans-serif\; font-size: small\;">Time: Dec 10\, 2020 05:30 PM Pacific Time (US and Canada)</span><br style="color: rgb(34\, 34\, 34)\; font-family: Arial\, Helvetica\, sans-serif\; font-size: small\;" />\n<br style="color: rgb(34\, 34\, 34)\; font-family: Arial\, Helvetica\, sans-serif\; font-size: small\;" />\n<span style="color: rgb(34\, 34\, 34)\; font-family: Arial\, Helvetica\, sans-serif\; font-size: small\;">Join Zoom Meeting</span><br style="color: rgb(34\, 34\, 34)\; font-family: Arial\, Helvetica\, sans-serif\; font-size: small\;" />\n<a data-saferedirecturl="https://www.google.com/url?q=https://us02web.zoom.us/j/84620960324?pwd%3DSjdmRFcyNWFWaHhhVzlpcFNNWjVvQT09&amp\;source=gmail&amp\;ust=1607659929595000&amp\;usg=AFQjCNGJvkkLfs4cA7XBwtWNYQTsp0SjMQ" href="https://us02web.zoom.us/j/84620960324?pwd=SjdmRFcyNWFWaHhhVzlpcFNNWjVvQT09" style="color: rgb(17\, 85\, 204)\; font-family: Arial\, Helvetica\, sans-serif\; font-size: small\;" target="_blank">https://us02web.zoom.us/j/<wbr />84620960324?pwd=<wbr />SjdmRFcyNWFWaHhhVzlpcFNNWjVvQT<wbr />09</a><br style="color: rgb(34\, 34\, 34)\; font-family: Arial\, Helvetica\, sans-serif\; font-size: small\;" />\n<br style="color: rgb(34\, 34\, 34)\; font-family: Arial\, Helvetica\, sans-serif\; font-size: small\;" />\n<span style="color: rgb(34\, 34\, 34)\; font-family: Arial\, Helvetica\, sans-serif\; font-size: small\;">Meeting ID: 846 2096 0324</span><br style="color: rgb(34\, 34\, 34)\; font-family: Arial\, Helvetica\, sans-serif\; font-size: small\;" />\n<span style="color: rgb(34\, 34\, 34)\; font-family: Arial\, Helvetica\, sans-serif\; font-size: small\;">Passcode: 949043</span><br style="color: rgb(34\, 34\, 34)\; font-family: Arial\, Helvetica\, sans-serif\; font-size: small\;" />\n<span style="color: rgb(34\, 34\, 34)\; font-family: Arial\, Helvetica\, sans-serif\; font-size: small\;">One tap mobile</span><br style="color: rgb(34\, 34\, 34)\; font-family: Arial\, Helvetica\, sans-serif\; font-size: small\;" />\n<span style="color: rgb(34\, 34\, 34)\; font-family: Arial\, Helvetica\, sans-serif\; font-size: small\;">+16699006833\,\,84620960324#\,\,\,\,</span><wbr style="color: rgb(34\, 34\, 34)\; font-family: Arial\, Helvetica\, sans-serif\; font-size: small\;" /><span style="color: rgb(34\, 34\, 34)\; font-family: Arial\, Helvetica\, sans-serif\; font-size: small\;">\,\,0#\,\,949043# US (San Jose)</span><br style="color: rgb(34\, 34\, 34)\; font-family: Arial\, Helvetica\, sans-serif\; font-size: small\;" />\n<span style="color: rgb(34\, 34\, 34)\; font-family: Arial\, Helvetica\, sans-serif\; font-size: small\;">+12532158782\,\,84620960324#\,\,\,\,</span><wbr style="color: rgb(34\, 34\, 34)\; font-family: Arial\, Helvetica\, sans-serif\; font-size: small\;" /><span style="color: rgb(34\, 34\, 34)\; font-family: Arial\, Helvetica\, sans-serif\; font-size: small\;">\,\,0#\,\,949043# US (Tacoma)</span><br style="color: rgb(34\, 34\, 34)\; font-family: Arial\, Helvetica\, sans-serif\; font-size: small\;" />\n<br style="color: rgb(34\, 34\, 34)\; font-family: Arial\, Helvetica\, sans-serif\; font-size: small\;" />\n<span style="color: rgb(34\, 34\, 34)\; font-family: Arial\, Helvetica\, sans-serif\; font-size: small\;">Dial by your location</span><br style="color: rgb(34\, 34\, 34)\; font-family: Arial\, Helvetica\, sans-serif\; font-size: small\;" />\n<span style="color: rgb(34\, 34\, 34)\; font-family: Arial\, Helvetica\, sans-serif\; font-size: small\;">&nbsp\; &nbsp\; &nbsp\; &nbsp\; +1 669 900 6833 US (San Jose)</span><br style="color: rgb(34\, 34\, 34)\; font-family: Arial\, Helvetica\, sans-serif\; font-size: small\;" />\n<span style="color: rgb(34\, 34\, 34)\; font-family: Arial\, Helvetica\, sans-serif\; font-size: small\;">&nbsp\; &nbsp\; &nbsp\; &nbsp\; +1 253 215 8782 US (Tacoma)</span><br style="color: rgb(34\, 34\, 34)\; font-family: Arial\, Helvetica\, sans-serif\; font-size: small\;" />\n<span style="color: rgb(34\, 34\, 34)\; font-family: Arial\, Helvetica\, sans-serif\; font-size: small\;">&nbsp\; &nbsp\; &nbsp\; &nbsp\; +1 346 248 7799 US (Houston)</span><br style="color: rgb(34\, 34\, 34)\; font-family: Arial\, Helvetica\, sans-serif\; font-size: small\;" />\n<span style="color: rgb(34\, 34\, 34)\; font-family: Arial\, Helvetica\, sans-serif\; font-size: small\;">&nbsp\; &nbsp\; &nbsp\; &nbsp\; +1 312 626 6799 US (Chicago)</span><br style="color: rgb(34\, 34\, 34)\; font-family: Arial\, Helvetica\, sans-serif\; font-size: small\;" />\n<span style="color: rgb(34\, 34\, 34)\; font-family: Arial\, Helvetica\, sans-serif\; font-size: small\;">&nbsp\; &nbsp\; &nbsp\; &nbsp\; +1 929 205 6099 US (New York)</span><br style="color: rgb(34\, 34\, 34)\; font-family: Arial\, Helvetica\, sans-serif\; font-size: small\;" />\n<span style="color: rgb(34\, 34\, 34)\; font-family: Arial\, Helvetica\, sans-serif\; font-size: small\;">&nbsp\; &nbsp\; &nbsp\; &nbsp\; +1 301 715 8592 US (Washington D.C)</span><br style="color: rgb(34\, 34\, 34)\; font-family: Arial\, Helvetica\, sans-serif\; font-size: small\;" />\n<span style="color: rgb(34\, 34\, 34)\; font-family: Arial\, Helvetica\, sans-serif\; font-size: small\;">Meeting ID: 846 2096 0324</span><br style="color: rgb(34\, 34\, 34)\; font-family: Arial\, Helvetica\, sans-serif\; font-size: small\;" />\n<span style="color: rgb(34\, 34\, 34)\; font-family: Arial\, Helvetica\, sans-serif\; font-size: small\;">Passcode: 949043</span><br style="color: rgb(34\, 34\, 34)\; font-family: Arial\, Helvetica\, sans-serif\; font-size: small\;" />\n<span style="color: rgb(34\, 34\, 34)\; font-family: Arial\, Helvetica\, sans-serif\; font-size: small\;">Find your local number:&nbsp\;</span><a data-saferedirecturl="https://www.google.com/url?q=https://us02web.zoom.us/u/kbnzJSXahZ&amp\;source=gmail&amp\;ust=1607659929595000&amp\;usg=AFQjCNF7OFawzUhKUAU739vlOf4hMH5cVw" href="https://us02web.zoom.us/u/kbnzJSXahZ" style="color: rgb(17\, 85\, 204)\; font-family: Arial\, Helvetica\, sans-serif\; font-size: small\;" target="_blank">https://us02web.zoom.us/u/<wbr />kbnzJSXahZ</a>
LOCATION:https://us02web.zoom.us/j/84620960324?pwd=SjdmRFcyNWFWaHhhVzlpcFNNWjVvQT09
UID:e.530.17449
SEQUENCE:3
DTSTAMP:20260420T091418Z
URL:https://business.poway.com/events/details/holiday-mixer-virtual-17449
END:VEVENT

END:VCALENDAR
