BEGIN:VCALENDAR
VERSION:2.0
PRODID:-//ChamberMaster//Event Calendar 2.0//EN
METHOD:PUBLISH
X-PUBLISHED-TTL:P3D
REFRESH-INTERVAL:P3D
CALSCALE:GREGORIAN
BEGIN:VEVENT
DTSTART:20161216T013000Z
DTEND:20161216T033000Z
X-MICROSOFT-CDO-ALLDAYEVENT:FALSE
SUMMARY:Holiday Mixer 2016
DESCRIPTION:You're invited to attend the Poway Chamber of Commerce's Annual Holiday Mixer hosted by StoneRidge Country Club!\n\n\n\n\n\nJoin us for a fantastic night of great food\, drinks\, and company! All active members have a chance to win the Rollover Jackpot. You must be present to win. If you're not there when we call your name\, we'll keep drawing names until someone wins!\n\n\n\nThank you to Community Chiropractic Center for sponsoring the Rollover Jackpot.\n\n\n\nMembers interested in donating a holiday drawing prize\, please contact christina@poway.com. In addition to displaying your prize\, you may display other marketing material for your business.
X-ALT-DESC;FMTTYPE=text/html:<span style="font-size:14px\;">You&#39\;re invited to attend the Poway Chamber of Commerce&#39\;s Annual Holiday Mixer hosted by StoneRidge Country Club!</span><br />\n<br />\n<br />\n<span style="font-size:12px\;">Join us for a fantastic night of great food\, drinks\, and company! All active members have a chance to win the Rollover Jackpot. You must be present to win. If you&#39\;re not there when we call your name\, we&#39\;ll keep drawing names until someone wins!<br />\n<br />\nThank you to <strong><a href="http://chiropracticandmassage.biz/" target="_blank">Community Chiropractic Center</a></strong> for sponsoring the Rollover Jackpot.</span><br />\n<br />\nMembers interested in donating a holiday drawing prize\, please contact christina@poway.com. In addition to displaying your prize\, you may display other marketing material for your business.
LOCATION:StoneRidge Country Club 17166 StoneRidge Country Club Lane Poway CA 92064
UID:e.530.13030
SEQUENCE:3
DTSTAMP:20260423T180222Z
URL:https://business.poway.com/events/details/holiday-mixer-2016-13030
END:VEVENT

END:VCALENDAR
