BEGIN:VCALENDAR
VERSION:2.0
PRODID:-//ChamberMaster//Event Calendar 2.0//EN
METHOD:PUBLISH
X-PUBLISHED-TTL:P3D
REFRESH-INTERVAL:P3D
CALSCALE:GREGORIAN
BEGIN:VEVENT
DTSTART;VALUE=DATE:20201207
DTEND;VALUE=DATE:20201208
TRANSP:TRANSPARENT
X-MICROSOFT-CDO-ALLDAYEVENT:TRUE
SUMMARY:Healthy through the Holidays Poway Healthy Challenge Week 4
DESCRIPTION:The Health & Wellness Committee of the Poway Chamber of Commerce is challenging you to be part of the "Healthy Through The Holidays" 6 week Challenge!\n\n\n\nTo participate: \n\n	Follow us on social media: @powayhealthy\n	Check out our resources and tips on healthy holiday eating\, exercise and stress reduction at powayhealthy.com!\n	Share posts of yourself staying healthy through the holidays and tag @powayhealthy\, #powayhealthy.\n	Win prizes from our weekly raffle! Each post equals an entry!
X-ALT-DESC;FMTTYPE=text/html:The Health &amp\; Wellness Committee of the Poway Chamber of Commerce is challenging you to be part of the &quot\;Healthy Through The Holidays&quot\; 6 week Challenge!<br />\n<br />\nTo participate:&nbsp\;\n<ol>\n	<li style="margin-left:0in\;">Follow us on social media: @powayhealthy</li>\n	<li style="margin-left:0in\;" value="2">Check out our resources and tips on healthy holiday eating\, exercise and stress reduction at <a href="https://www.powayhealthy.com/">powayhealthy.com</a>!</li>\n	<li style="margin-left:0in\;" value="3">Share posts of yourself staying healthy through the holidays and tag @powayhealthy\, #powayhealthy.</li>\n	<li style="margin-left:0in\;" value="4">Win prizes from our weekly raffle! Each post equals an entry!</li>\n</ol>\n
LOCATION:This 6 Week Challenge is open to all!
UID:e.530.17744
SEQUENCE:3
DTSTAMP:20260420T093748Z
URL:https://business.poway.com/events/details/healthy-through-the-holidays-poway-healthy-challenge-week-4-17744
END:VEVENT

END:VCALENDAR
