BEGIN:VCALENDAR
VERSION:2.0
PRODID:-//ChamberMaster//Event Calendar 2.0//EN
METHOD:PUBLISH
X-PUBLISHED-TTL:P3D
REFRESH-INTERVAL:P3D
CALSCALE:GREGORIAN
BEGIN:VEVENT
DTSTART:20220412T190000Z
DTEND:20220412T200000Z
X-MICROSOFT-CDO-ALLDAYEVENT:FALSE
SUMMARY:Health & Wellness Committee Meeting
DESCRIPTION:The Health & Wellness Committee works to promote the health and wellness for Chamber members and the community.  Visit powayhealth.com for more information\, and follow @powayhealthy on Instagram\, #PowayHealthy.\n\n\n\nThis month's Committee meeting is to prepare for the H&W Committee webinar scheduled for 4/19.
X-ALT-DESC;FMTTYPE=text/html:<span style="font-family: arial\; font-size: 14px\;">The Health &amp\; Wellness Committee works to promote the health and wellness for Chamber members and the community.&nbsp\; Visit&nbsp\;</span><a href="https://www.powayhealthy.com/" style="font-family: arial\; font-size: 14px\;">powayhealth.com</a><span style="font-family: arial\; font-size: 14px\;">&nbsp\;for more information\, and follow @powayhealthy on Instagram\, #PowayHealthy.<br />\n<br />\nThis month&#39\;s Committee meeting is to prepare for the H&amp\;W Committee webinar scheduled for 4/19.</span>
LOCATION:Location TBD
UID:e.530.20566
SEQUENCE:3
DTSTAMP:20260420T043921Z
URL:https://business.poway.com/events/details/health-wellness-committee-meeting-20566
END:VEVENT

END:VCALENDAR
