BEGIN:VCALENDAR
VERSION:2.0
PRODID:-//ChamberMaster//Event Calendar 2.0//EN
METHOD:PUBLISH
X-PUBLISHED-TTL:P3D
REFRESH-INTERVAL:P3D
CALSCALE:GREGORIAN
BEGIN:VEVENT
DTSTART:20220118T200000Z
DTEND:20220118T210000Z
X-MICROSOFT-CDO-ALLDAYEVENT:FALSE
SUMMARY:Health & Wellness Committee Meeting
DESCRIPTION:The Health & Wellness Committee works to promote the health and wellness for Chamber members and the community.  Visit powayhealth.com for more information\, and follow @powayhealthy on Instagram\, #PowayHealthy.
X-ALT-DESC;FMTTYPE=text/html:<span style="font-family: arial\; font-size: 14px\;">The Health &amp\; Wellness Committee works to promote the health and wellness for Chamber members and the community.&nbsp\; Visit&nbsp\;</span><a href="https://www.powayhealthy.com/" style="font-family: arial\; font-size: 14px\;">powayhealth.com</a><span style="font-family: arial\; font-size: 14px\;">&nbsp\;for more information\, and follow @powayhealthy on Instagram\, #PowayHealthy.</span>
LOCATION:Meeting location TBD
UID:e.530.19309
SEQUENCE:3
DTSTAMP:20260419T220017Z
URL:https://business.poway.com/events/details/health-wellness-committee-meeting-01-18-2022-19309
END:VEVENT

END:VCALENDAR
