BEGIN:VCALENDAR
VERSION:2.0
PRODID:-//ChamberMaster//Event Calendar 2.0//EN
METHOD:PUBLISH
X-PUBLISHED-TTL:P3D
REFRESH-INTERVAL:P3D
CALSCALE:GREGORIAN
BEGIN:VEVENT
DTSTART;VALUE=DATE:20201031
DTEND;VALUE=DATE:20201101
TRANSP:TRANSPARENT
X-MICROSOFT-CDO-ALLDAYEVENT:TRUE
SUMMARY:Halloween Treat Trail
DESCRIPTION:Follow the Treat Trail this Halloween with local businesses in Poway and surrounding areas! While this Halloween is looking a bit different than usual\, kids and families can have fun in a safe and social distanced manner by visiting the businesses on our Treat Trail for a Halloween treat (or trick!)\n\n\n\nDownload the list/map here.
X-ALT-DESC;FMTTYPE=text/html:Follow the Treat Trail this Halloween with local businesses in Poway and surrounding areas! While this Halloween is looking a bit different than usual\, kids and families can have fun in a safe and social distanced manner by visiting the businesses on our Treat Trail for a Halloween treat (or trick!)<br />\n<br />\n<a href="https://chambermaster.blob.core.windows.net/userfiles/UserFiles/chambers/530/File/treattrailmapandflyer.png">Download the list/map here</a>.
LOCATION:To download the list of participating businesses\, click here.
UID:e.530.17349
SEQUENCE:3
DTSTAMP:20260420T124636Z
URL:https://business.poway.com/events/details/halloween-treat-trail-17349
END:VEVENT

END:VCALENDAR
