BEGIN:VCALENDAR
VERSION:2.0
PRODID:-//ChamberMaster//Event Calendar 2.0//EN
METHOD:PUBLISH
X-PUBLISHED-TTL:P3D
REFRESH-INTERVAL:P3D
CALSCALE:GREGORIAN
BEGIN:VEVENT
DTSTART:20200722T150000Z
DTEND:20200722T160000Z
X-MICROSOFT-CDO-ALLDAYEVENT:FALSE
SUMMARY:Government Affairs Committee
DESCRIPTION:Provides the Chamber's membership and Board with input on local\, county\, state and federal legislative issues.\n\n\n\n***Chamber Members Only***\n\n\n\nThis virtual meeting will be held on Zoom.
X-ALT-DESC;FMTTYPE=text/html:Provides the Chamber&#39\;s membership and Board with input on local\, county\, state and federal legislative issues.<br />\n<br />\n***Chamber Members Only***<br />\n<br />\nThis virtual meeting will be held on Zoom.
LOCATION:https://zoom.us/j/91978380353?pwd=R1luMHZKWm5QOE5kWldJRFFnRSs2dz09
UID:e.530.6331
SEQUENCE:3
DTSTAMP:20260420T165225Z
URL:https://business.poway.com/events/details/government-affairs-committee-07-22-2020-6331
END:VEVENT

END:VCALENDAR
