BEGIN:VCALENDAR
VERSION:2.0
PRODID:-//ChamberMaster//Event Calendar 2.0//EN
METHOD:PUBLISH
X-PUBLISHED-TTL:P3D
REFRESH-INTERVAL:P3D
CALSCALE:GREGORIAN
BEGIN:VEVENT
DTSTART:20220126T160000Z
DTEND:20220126T170000Z
X-MICROSOFT-CDO-ALLDAYEVENT:FALSE
SUMMARY:Government Affairs Committee
DESCRIPTION:Provides the Chamber's membership and Board with input on local\, county\, state and federal legislative issues.\n\n\n\n***Chamber Members Only***
X-ALT-DESC;FMTTYPE=text/html:Provides the Chamber&#39\;s membership and Board with input on local\, county\, state and federal legislative issues.<br />\n<br />\n***Chamber Members Only***
LOCATION:
UID:e.530.6340
SEQUENCE:3
DTSTAMP:20260419T215622Z
URL:https://business.poway.com/events/details/government-affairs-committee-01-26-2022-6340
END:VEVENT

END:VCALENDAR
