BEGIN:VCALENDAR
VERSION:2.0
PRODID:-//ChamberMaster//Event Calendar 2.0//EN
METHOD:PUBLISH
X-PUBLISHED-TTL:P3D
REFRESH-INTERVAL:P3D
CALSCALE:GREGORIAN
BEGIN:VEVENT
DTSTART:20210129T003000Z
DTEND:20210129T013000Z
X-MICROSOFT-CDO-ALLDAYEVENT:FALSE
SUMMARY:Golf Committee Meeting
DESCRIPTION:Help plan the 2021 Mickey Cafagna Golf Tournament!
X-ALT-DESC;FMTTYPE=text/html:Help plan the 2021 Mickey Cafagna Golf Tournament!
LOCATION:Zoom Meeting https://us02web.zoom.us/j/87665720385?pwd=eFYralQ2SllsTXdZRnNLdkU3bkVGdz09
UID:e.530.18106
SEQUENCE:3
DTSTAMP:20260420T080708Z
URL:https://business.poway.com/events/details/golf-committee-meeting-18106
END:VEVENT

END:VCALENDAR
