BEGIN:VCALENDAR
VERSION:2.0
PRODID:-//ChamberMaster//Event Calendar 2.0//EN
METHOD:PUBLISH
X-PUBLISHED-TTL:P3D
REFRESH-INTERVAL:P3D
CALSCALE:GREGORIAN
BEGIN:VEVENT
DTSTART:20200303T170000Z
DTEND:20200303T180000Z
X-MICROSOFT-CDO-ALLDAYEVENT:FALSE
SUMMARY:Golf Committee Meeting
DESCRIPTION:This is the final planning meeting for the annual Mickey Cafagna Memorial Golf Classic. We welcome input from any Chamber member willing to volunteer their time to help make this event a success!  Coffee and pastries will be provided.
X-ALT-DESC;FMTTYPE=text/html:<span style="color: rgb(51\, 51\, 51)\; font-family: sans-serif\, Arial\, Verdana\, &quot\;Trebuchet MS&quot\;\; font-size: 13px\; background-color: rgb(255\, 255\, 255)\;">This is the final planning meeting for the annual Mickey Cafagna Memorial Golf Classic. We welcome input from any Chamber member willing to volunteer their time to help make this event a success!&nbsp\; Coffee and pastries will be provided.</span>
LOCATION:El Biz Room\, inside Avant Restaurant Rancho Bernardo Inn 17550 Bernardo Oaks Drive San Diego\, CA 92128
UID:e.530.16488
SEQUENCE:3
DTSTAMP:20260420T224304Z
URL:https://business.poway.com/events/details/golf-committee-meeting-16488
END:VEVENT

END:VCALENDAR
