BEGIN:VCALENDAR
VERSION:2.0
PRODID:-//ChamberMaster//Event Calendar 2.0//EN
METHOD:PUBLISH
X-PUBLISHED-TTL:P3D
REFRESH-INTERVAL:P3D
CALSCALE:GREGORIAN
BEGIN:VEVENT
DTSTART:20191203T170000Z
DTEND:20191203T180000Z
X-MICROSOFT-CDO-ALLDAYEVENT:FALSE
SUMMARY:Golf Committee Meeting
DESCRIPTION:Help with planning and logistics of the annual Mickey Cafagna Memorial Golf Classic\, which is held in March of each year. We welcome input from any Chamber member willing to volunteer their time to help make this event a success!
X-ALT-DESC;FMTTYPE=text/html:Help with planning and logistics of the annual Mickey Cafagna Memorial Golf Classic\, which is held in March of each year. We welcome input from any Chamber member willing to volunteer their time to help make this event a success!
LOCATION:Poway Chamber of Commerce Office 14039 Midland Road Poway CA 92064
UID:e.530.16147
SEQUENCE:3
DTSTAMP:20260421T044318Z
URL:https://business.poway.com/events/details/golf-committee-meeting-12-03-2019-16147
END:VEVENT

END:VCALENDAR
